BEGIN:VCALENDAR
VERSION:2.0
PRODID:-//Elkstone Farm - ECPv6.15.20//NONSGML v1.0//EN
CALSCALE:GREGORIAN
METHOD:PUBLISH
X-ORIGINAL-URL:https://elkstonefarm.com
X-WR-CALDESC:Events for Elkstone Farm
REFRESH-INTERVAL;VALUE=DURATION:PT1H
X-Robots-Tag:noindex
X-PUBLISHED-TTL:PT1H
BEGIN:VTIMEZONE
TZID:America/Denver
BEGIN:DAYLIGHT
TZOFFSETFROM:-0700
TZOFFSETTO:-0600
TZNAME:MDT
DTSTART:20250309T090000
END:DAYLIGHT
BEGIN:STANDARD
TZOFFSETFROM:-0600
TZOFFSETTO:-0700
TZNAME:MST
DTSTART:20251102T080000
END:STANDARD
BEGIN:DAYLIGHT
TZOFFSETFROM:-0700
TZOFFSETTO:-0600
TZNAME:MDT
DTSTART:20260308T090000
END:DAYLIGHT
BEGIN:STANDARD
TZOFFSETFROM:-0600
TZOFFSETTO:-0700
TZNAME:MST
DTSTART:20261101T080000
END:STANDARD
BEGIN:DAYLIGHT
TZOFFSETFROM:-0700
TZOFFSETTO:-0600
TZNAME:MDT
DTSTART:20270314T090000
END:DAYLIGHT
BEGIN:STANDARD
TZOFFSETFROM:-0600
TZOFFSETTO:-0700
TZNAME:MST
DTSTART:20271107T080000
END:STANDARD
END:VTIMEZONE
BEGIN:VEVENT
DTSTART;TZID=America/Denver:20261007T173000
DTEND;TZID=America/Denver:20261007T203000
DTSTAMP:20260421T152249
CREATED:20260120T174421Z
LAST-MODIFIED:20260120T174421Z
UID:8812-1791394200-1791405000@elkstonefarm.com
SUMMARY:Farm Dinner on October 7\, 2026
DESCRIPTION:Farm dinners are arranged as a series so you can make a reservation for a single evening or several at once! Follow the link in this post to learn more and purchase tickets. \nLearn More & Register
URL:https://elkstonefarm.com/event/farm-dinner-on-october-7-2026/
LOCATION:CO
CATEGORIES:CSA,Dining
ATTACH;FMTTYPE=image/webp:https://elkstonefarm.com/wp-content/uploads/2025/02/FarmDinner2025.webp
END:VEVENT
BEGIN:VEVENT
DTSTART;TZID=America/Denver:20261015T103000
DTEND;TZID=America/Denver:20261015T120000
DTSTAMP:20260421T152249
CREATED:20260414T182435Z
LAST-MODIFIED:20260414T182435Z
UID:9246-1792060200-1792065600@elkstonefarm.com
SUMMARY:Farm Tour: October 15th\, 2026
DESCRIPTION:We like to share this stunning place and let others soak up its beauty\, vitality\, and special wisdom. If you are curious about Elkstone Farm and our unique way of growing food at 7\,000 feet\, we invite you to sign up for a tour. \nOn the tour\, participants will be introduced to Elkstone’s different growing areas—each designed and managed in accordance with the principles of permaculture. Visitors will get to see for themselves how farming practices like plant guilds\, food forests\, climate battery greenhouses\, and multi-layered planting work toward greater abundance. As a local model for regenerative agriculture\, we are honored to share our knowledge—by working with nature we can optimize land use and create more ecological harmony. \nParticipants will be served an amazing farm-to-table lunch\, tastefully made with the freshest ingredients harvested from the farm. \n** Please bring comfortable walking shoes\, sunscreen\, and a shade hat.
URL:https://elkstonefarm.com/event/farm-tour-october-15th-2026/
LOCATION:Elkstone Farm\, 40345 Virtus Way\, Steamboat Springs\, CO\, 80487\, United States
CATEGORIES:Education,Tours
ATTACH;FMTTYPE=image/jpeg:https://elkstonefarm.com/wp-content/uploads/2021/03/IMG_6591-800px-31q.jpg
ORGANIZER;CN="Marco Lam":MAILTO:marco@elkstonefarm.com
END:VEVENT
END:VCALENDAR