BEGIN:VCALENDAR
VERSION:2.0
PRODID:-//Elkstone Farm - ECPv6.15.20//NONSGML v1.0//EN
CALSCALE:GREGORIAN
METHOD:PUBLISH
X-ORIGINAL-URL:https://elkstonefarm.com
X-WR-CALDESC:Events for Elkstone Farm
REFRESH-INTERVAL;VALUE=DURATION:PT1H
X-Robots-Tag:noindex
X-PUBLISHED-TTL:PT1H
BEGIN:VTIMEZONE
TZID:America/Denver
BEGIN:DAYLIGHT
TZOFFSETFROM:-0700
TZOFFSETTO:-0600
TZNAME:MDT
DTSTART:20250309T090000
END:DAYLIGHT
BEGIN:STANDARD
TZOFFSETFROM:-0600
TZOFFSETTO:-0700
TZNAME:MST
DTSTART:20251102T080000
END:STANDARD
BEGIN:DAYLIGHT
TZOFFSETFROM:-0700
TZOFFSETTO:-0600
TZNAME:MDT
DTSTART:20260308T090000
END:DAYLIGHT
BEGIN:STANDARD
TZOFFSETFROM:-0600
TZOFFSETTO:-0700
TZNAME:MST
DTSTART:20261101T080000
END:STANDARD
BEGIN:DAYLIGHT
TZOFFSETFROM:-0700
TZOFFSETTO:-0600
TZNAME:MDT
DTSTART:20270314T090000
END:DAYLIGHT
BEGIN:STANDARD
TZOFFSETFROM:-0600
TZOFFSETTO:-0700
TZNAME:MST
DTSTART:20271107T080000
END:STANDARD
END:VTIMEZONE
BEGIN:VEVENT
DTSTART;TZID=America/Denver:20260514T180000
DTEND;TZID=America/Denver:20260514T200000
DTSTAMP:20260421T040244
CREATED:20260316T195602Z
LAST-MODIFIED:20260318T011704Z
UID:9159-1778781600-1778788800@elkstonefarm.com
SUMMARY:Book Club Dinner: Yampa Yearnings : May 14th\, 2026
DESCRIPTION:For those who live along the bends of the Yampa River\, under the long skies of the valley\, and among the seasons that shape this place—you’re invited to gather for a shared reading of Yampa Yearnings by award-winning author Eugene Buchanan.   We may all share some concern for our low snowpack melting into a low water year for our beloved river.   This is an opportunity to increase awareness for our backyard river. \nThis book club will bring together neighbors from across the Yampa Valley to read and discuss the novel Yampa Yearnings\, a story rooted in the landscapes\, longings\, and layered histories of our region. Together we’ll explore the characters\, the valley itself\, and the deeper questions the story raises about place\, belonging\, and the lives we build here. \nWhether you’ve lived here for generations or just arrived under the spell of these mountains\, you’re warmly welcome. \nCome for the book.  Stay for the conversation! \nBring a copy of Yampa Yearnings\, a curious mind\, and perhaps a friend who loves the valley as much as you do. \nChef Russell will cook a family-style farm-to-table dinner to accompany our dinner discussion. Our farm manager\, Marco Lam\, is partnering once again with Danielle Skov\, of Off the Beaten Path bookstore\, to host a lively discussion.  Please order your book in advance and read it.   If you don't finish it\, you can can still join us for dinner without being embarrassed! \nEXCITING UPDATEL \nEugene Buchanan\, the author\,  is going to join us for dinner and discussion! \nA former reporter for the Denver Business Journal and 14-year publisher and editor-in-chief of Paddler magazine\, Eugene Buchanan has written about the outdoors for more than 25 years. He’s covered sports at the highest levels of competition\, including the X Games for ESPN.com and the Beijing Olympics while working for NBC. \nAs a member of New York’s prestigious Explorer’s Club\, Eugene’s articles have appeared in such publications as the New York Times\, National Geographic Adventure\, Men's Journal\, Sports Afield\, Outside\, Forbes Life\, Skiing\, Bike and more. He’s a talented PR specialist\, copywriter\, and speaker\, and is the author of five books: Brothers on the Bashkaus (2007); Outdoor Parents\, Outdoor Kids (2010); Ultimate Canoe & Kayak Adventures (2013); Comrades on the Colca (2016)\, and Tales from a Mountain Town (2017). \nEugene is the editor for Swift Communications’ magazine division in Steamboat Springs\, Colorado. He lives with his wife\, Denise\, and daughters\, Brooke and Casey\, a block away from his beloved Yampa River.
URL:https://elkstonefarm.com/event/yampa-yearnings-may-14th-2026/
LOCATION:Elkstone Farm\, 40345 Virtus Way\, Steamboat Springs\, CO\, 80487\, United States
CATEGORIES:Education
ATTACH;FMTTYPE=image/png:https://elkstonefarm.com/wp-content/uploads/2026/03/Screenshot-2026-03-16-at-1.47.22-PM.png
ORGANIZER;CN="Marco Lam":MAILTO:marco@elkstonefarm.com
END:VEVENT
BEGIN:VEVENT
DTSTART;TZID=America/Denver:20260515T100000
DTEND;TZID=America/Denver:20260515T120000
DTSTAMP:20260421T040244
CREATED:20260414T215128Z
LAST-MODIFIED:20260414T215128Z
UID:9249-1778839200-1778846400@elkstonefarm.com
SUMMARY:Tea Ceremony with Marco Chung-Shu Lam\, May 15th\, 2026
DESCRIPTION:Please join us for a tea ceremony!  We will be sharing traditional bowl tea in the Cha Dao style of tea ceremony. Marco will share a bit about tea practice and there will be time to drink plenty of tea. \nCha Dao\, “The Way of Tea” is a practice that comes from the depth of Chinese culture and from the Taoist practices of relating to nature as medicine. The ancient Taoists and sages use tea as both plant medicine and as a path to cultivate awareness and to deepen one's mediation practice. Tea is one of the most accessible plant teachers and as a gentle spirit\, it can guide you into a more powerful and centered relationship with nature. \nLed by Marco Chung-Shu Lam\, who is one of our farm managers and also runs an integrative medicine clinic in Boulder. He is a skilled practitioner of internal martial arts\, acupuncture and herbalism who has practiced in Colorado for over twenty years. He has a deep love of tea and will be sharing from his personal collection of teas in this session.
URL:https://elkstonefarm.com/event/tea-ceremony-with-marco-chung-shu-lam-may-15th-2026/
LOCATION:Elkstone Farm\, 40345 Virtus Way\, Steamboat Springs\, CO\, 80487\, United States
CATEGORIES:Education
ATTACH;FMTTYPE=image/jpeg:https://elkstonefarm.com/wp-content/uploads/2023/12/bowls.jpeg
ORGANIZER;CN="Marco Lam":MAILTO:marco@elkstonefarm.com
END:VEVENT
BEGIN:VEVENT
DTSTART;TZID=America/Denver:20260604T103000
DTEND;TZID=America/Denver:20260604T120000
DTSTAMP:20260421T040244
CREATED:20260414T180822Z
LAST-MODIFIED:20260414T180915Z
UID:9234-1780569000-1780574400@elkstonefarm.com
SUMMARY:Farm Tour: June 4th\, 2026
DESCRIPTION:We like to share this stunning place and let others soak up its beauty\, vitality\, and special wisdom. If you are curious about Elkstone Farm and our unique way of growing food at 7\,000 feet\, we invite you to sign up for a tour. \nOn the tour\, participants will be introduced to Elkstone’s different growing areas—each designed and managed in accordance with the principles of permaculture. Visitors will get to see for themselves how farming practices like plant guilds\, food forests\, climate battery greenhouses\, and multi-layered planting work toward greater abundance. As a local model for regenerative agriculture\, we are honored to share our knowledge—by working with nature we can optimize land use and create more ecological harmony. \nParticipants will be served an amazing farm-to-table lunch\, tastefully made with the freshest ingredients harvested from the farm. \n** Please bring comfortable walking shoes\, sunscreen\, and a shade hat.
URL:https://elkstonefarm.com/event/farm-tour-june-4-2026/
LOCATION:Elkstone Farm\, 40345 Virtus Way\, Steamboat Springs\, CO\, 80487\, United States
CATEGORIES:Education,Tours
ATTACH;FMTTYPE=image/jpeg:https://elkstonefarm.com/wp-content/uploads/2021/03/IMG_6591-800px-31q.jpg
ORGANIZER;CN="Farm Manager":MAILTO:info@elkstonefarm.com
END:VEVENT
BEGIN:VEVENT
DTSTART;TZID=America/Denver:20260611T100000
DTEND;TZID=America/Denver:20260611T170000
DTSTAMP:20260421T040244
CREATED:20260122T203032Z
LAST-MODIFIED:20260122T203134Z
UID:8837-1781172000-1781197200@elkstonefarm.com
SUMMARY:Community Death Care: An Indigenous Approach to End-of-Life Planning with Vanessa Cruz: June 11th\, 2026
DESCRIPTION:Join us for a transformative one-day workshop that reimagines death care through an Indigenous\, earth-based lens. Guided by Vanessa Cruz\, an Indigenous death doula\, this immersive experience explores holistic approaches to end-of-life planning\, including creating a death plan\, legacy work\, alternative body disposition methods\, home funerals\, and celebrations of life. Rooted in ancestral wisdom and decolonized practices\, the workshop integrates hands-on activities\, meditative practices\, and sacred rituals to help participants connect spiritually\, emotionally\, mentally\, and physically to the material.\n\nParticipants will enjoy a nourishing farm-to-table lunch featuring local ingredients that honor sustainability and reciprocity. Whether you’re seeking tools for personal preparation or professional growth\, this workshop offers a unique opportunity to learn practical skills while embracing Indigenous traditions of honoring life and death. Together\, we’ll create a sacred space for reflection\, community\, and empowerment as we navigate the journey of death with reverence and intention.
URL:https://elkstonefarm.com/event/community-death-care-an-indigenous-approach-to-end-of-life-planning-with-vanessa-cruz-june-12th-2026/
LOCATION:Elkstone Farm\, 40345 Virtus Way\, Steamboat Springs\, CO\, 80487\, United States
CATEGORIES:Classes,Education,Traditional Artistry Workshops,workshop
ATTACH;FMTTYPE=image/jpeg:https://elkstonefarm.com/wp-content/uploads/2025/04/Headshot-DD.jpg
ORGANIZER;CN="Marco Lam":MAILTO:marco@elkstonefarm.com
END:VEVENT
BEGIN:VEVENT
DTSTART;TZID=America/Denver:20260723T103000
DTEND;TZID=America/Denver:20260723T120000
DTSTAMP:20260421T040244
CREATED:20260414T181058Z
LAST-MODIFIED:20260414T181058Z
UID:9237-1784802600-1784808000@elkstonefarm.com
SUMMARY:Farm Tour: July 23rd\, 2026
DESCRIPTION:We like to share this stunning place and let others soak up its beauty\, vitality\, and special wisdom. If you are curious about Elkstone Farm and our unique way of growing food at 7\,000 feet\, we invite you to sign up for a tour. \nOn the tour\, participants will be introduced to Elkstone’s different growing areas—each designed and managed in accordance with the principles of permaculture. Visitors will get to see for themselves how farming practices like plant guilds\, food forests\, climate battery greenhouses\, and multi-layered planting work toward greater abundance. As a local model for regenerative agriculture\, we are honored to share our knowledge—by working with nature we can optimize land use and create more ecological harmony. \nParticipants will be served an amazing farm-to-table lunch\, tastefully made with the freshest ingredients harvested from the farm. \n** Please bring comfortable walking shoes\, sunscreen\, and a shade hat.
URL:https://elkstonefarm.com/event/farm-tour-7-23-2026/
LOCATION:Elkstone Farm\, 40345 Virtus Way\, Steamboat Springs\, CO\, 80487\, United States
CATEGORIES:Education,Tours
ATTACH;FMTTYPE=image/jpeg:https://elkstonefarm.com/wp-content/uploads/2021/03/IMG_6591-800px-31q.jpg
ORGANIZER;CN="Farm Manager":MAILTO:info@elkstonefarm.com
END:VEVENT
BEGIN:VEVENT
DTSTART;TZID=America/Denver:20260806T103000
DTEND;TZID=America/Denver:20260806T120000
DTSTAMP:20260421T040244
CREATED:20260414T181330Z
LAST-MODIFIED:20260414T181350Z
UID:9240-1786012200-1786017600@elkstonefarm.com
SUMMARY:Farm Tour: August 6th\, 2026
DESCRIPTION:We like to share this stunning place and let others soak up its beauty\, vitality\, and special wisdom. If you are curious about Elkstone Farm and our unique way of growing food at 7\,000 feet\, we invite you to sign up for a tour. \nOn the tour\, participants will be introduced to Elkstone’s different growing areas—each designed and managed in accordance with the principles of permaculture. Visitors will get to see for themselves how farming practices like plant guilds\, food forests\, climate battery greenhouses\, and multi-layered planting work toward greater abundance. As a local model for regenerative agriculture\, we are honored to share our knowledge—by working with nature we can optimize land use and create more ecological harmony. \nParticipants will be served an amazing farm-to-table lunch\, tastefully made with the freshest ingredients harvested from the farm. \n** Please bring comfortable walking shoes\, sunscreen\, and a shade hat.
URL:https://elkstonefarm.com/event/farm-tour-jaugust-6-2026/
LOCATION:Elkstone Farm\, 40345 Virtus Way\, Steamboat Springs\, CO\, 80487\, United States
CATEGORIES:Education,Tours
ATTACH;FMTTYPE=image/jpeg:https://elkstonefarm.com/wp-content/uploads/2021/03/IMG_6591-800px-31q.jpg
ORGANIZER;CN="Farm Manager":MAILTO:info@elkstonefarm.com
END:VEVENT
BEGIN:VEVENT
DTSTART;TZID=America/Denver:20260917T103000
DTEND;TZID=America/Denver:20260917T120000
DTSTAMP:20260421T040244
CREATED:20260414T181551Z
LAST-MODIFIED:20260414T181551Z
UID:9243-1789641000-1789646400@elkstonefarm.com
SUMMARY:Farm Tour: September 17th\, 2026
DESCRIPTION:We like to share this stunning place and let others soak up its beauty\, vitality\, and special wisdom. If you are curious about Elkstone Farm and our unique way of growing food at 7\,000 feet\, we invite you to sign up for a tour. \nOn the tour\, participants will be introduced to Elkstone’s different growing areas—each designed and managed in accordance with the principles of permaculture. Visitors will get to see for themselves how farming practices like plant guilds\, food forests\, climate battery greenhouses\, and multi-layered planting work toward greater abundance. As a local model for regenerative agriculture\, we are honored to share our knowledge—by working with nature we can optimize land use and create more ecological harmony. \nParticipants will be served an amazing farm-to-table lunch\, tastefully made with the freshest ingredients harvested from the farm. \n** Please bring comfortable walking shoes\, sunscreen\, and a shade hat.
URL:https://elkstonefarm.com/event/farm-tour-september-17th-2026/
LOCATION:Elkstone Farm\, 40345 Virtus Way\, Steamboat Springs\, CO\, 80487\, United States
CATEGORIES:Education,Tours
ATTACH;FMTTYPE=image/jpeg:https://elkstonefarm.com/wp-content/uploads/2021/03/IMG_6591-800px-31q.jpg
ORGANIZER;CN="Farm Manager":MAILTO:info@elkstonefarm.com
END:VEVENT
BEGIN:VEVENT
DTSTART;TZID=America/Denver:20261015T103000
DTEND;TZID=America/Denver:20261015T120000
DTSTAMP:20260421T040244
CREATED:20260414T182435Z
LAST-MODIFIED:20260414T182435Z
UID:9246-1792060200-1792065600@elkstonefarm.com
SUMMARY:Farm Tour: October 15th\, 2026
DESCRIPTION:We like to share this stunning place and let others soak up its beauty\, vitality\, and special wisdom. If you are curious about Elkstone Farm and our unique way of growing food at 7\,000 feet\, we invite you to sign up for a tour. \nOn the tour\, participants will be introduced to Elkstone’s different growing areas—each designed and managed in accordance with the principles of permaculture. Visitors will get to see for themselves how farming practices like plant guilds\, food forests\, climate battery greenhouses\, and multi-layered planting work toward greater abundance. As a local model for regenerative agriculture\, we are honored to share our knowledge—by working with nature we can optimize land use and create more ecological harmony. \nParticipants will be served an amazing farm-to-table lunch\, tastefully made with the freshest ingredients harvested from the farm. \n** Please bring comfortable walking shoes\, sunscreen\, and a shade hat.
URL:https://elkstonefarm.com/event/farm-tour-october-15th-2026/
LOCATION:Elkstone Farm\, 40345 Virtus Way\, Steamboat Springs\, CO\, 80487\, United States
CATEGORIES:Education,Tours
ATTACH;FMTTYPE=image/jpeg:https://elkstonefarm.com/wp-content/uploads/2021/03/IMG_6591-800px-31q.jpg
ORGANIZER;CN="Marco Lam":MAILTO:marco@elkstonefarm.com
END:VEVENT
END:VCALENDAR