BEGIN:VCALENDAR
VERSION:2.0
PRODID:-//Elkstone Farm - ECPv6.15.20//NONSGML v1.0//EN
CALSCALE:GREGORIAN
METHOD:PUBLISH
X-ORIGINAL-URL:https://elkstonefarm.com
X-WR-CALDESC:Events for Elkstone Farm
REFRESH-INTERVAL;VALUE=DURATION:PT1H
X-Robots-Tag:noindex
X-PUBLISHED-TTL:PT1H
BEGIN:VTIMEZONE
TZID:America/Denver
BEGIN:DAYLIGHT
TZOFFSETFROM:-0700
TZOFFSETTO:-0600
TZNAME:MDT
DTSTART:20240310T090000
END:DAYLIGHT
BEGIN:STANDARD
TZOFFSETFROM:-0600
TZOFFSETTO:-0700
TZNAME:MST
DTSTART:20241103T080000
END:STANDARD
BEGIN:DAYLIGHT
TZOFFSETFROM:-0700
TZOFFSETTO:-0600
TZNAME:MDT
DTSTART:20250309T090000
END:DAYLIGHT
BEGIN:STANDARD
TZOFFSETFROM:-0600
TZOFFSETTO:-0700
TZNAME:MST
DTSTART:20251102T080000
END:STANDARD
BEGIN:DAYLIGHT
TZOFFSETFROM:-0700
TZOFFSETTO:-0600
TZNAME:MDT
DTSTART:20260308T090000
END:DAYLIGHT
BEGIN:STANDARD
TZOFFSETFROM:-0600
TZOFFSETTO:-0700
TZNAME:MST
DTSTART:20261101T080000
END:STANDARD
END:VTIMEZONE
BEGIN:VEVENT
DTSTART;TZID=America/Denver:20250528T110000
DTEND;TZID=America/Denver:20250528T123000
DTSTAMP:20260422T033857
CREATED:20250414T181249Z
LAST-MODIFIED:20250414T181249Z
UID:7614-1748430000-1748435400@elkstonefarm.com
SUMMARY:Tea Ceremony in the Greenhouse with Marco Chung-Shu Lam\, May 28th\, 2025
DESCRIPTION:Please join us for a tea ceremony in our beautiful four season greenhouse. Drink tea in a grove of citrus and fig trees\, flowers and herbs\, while the cold weather is brewing outside. We will be sharing traditional bowl tea in the Cha Dao style of tea ceremony. Marco will share a bit about tea practice and there will be time after to relax in the greenhouse. \nCha Dao\, “The Way of Tea” is a practice that comes from the depth of Chinese culture and from the Taoist practices of relating to nature as medicine. The ancient Taoists and sages use tea as both plant medicine and as a path to cultivate awareness and to deepen one's mediation practice. Tea is one of the most accessible plant teachers and as a gentle spirit\, it can guide you into a more powerful and centered relationship with nature. \nLed by Marco Chung-Shu Lam\, who is one of our farm managers and also runs an integrative medicine clinic in Boulder. He is a skilled practitioner of internal martial arts\, acupuncture and herbalism who has practiced in Colorado for over twenty years. He has a deep love of tea and will be sharing from his personal collection of both aged shou pu-erhs and an exquisite oolong in this session.
URL:https://elkstonefarm.com/event/tea-ceremony-in-the-greenhouse-with-marco-chung-shu-lam-may-28th-2025-2/
LOCATION:Elkstone Farm\, 40345 Virtus Way\, Steamboat Springs\, CO\, 80487\, United States
CATEGORIES:Education,Education Classes
ATTACH;FMTTYPE=image/jpeg:https://elkstonefarm.com/wp-content/uploads/2023/12/bowls.jpeg
ORGANIZER;CN="Marco Lam":MAILTO:marco@elkstonefarm.com
END:VEVENT
BEGIN:VEVENT
DTSTART;TZID=America/Denver:20250429T110000
DTEND;TZID=America/Denver:20250429T123000
DTSTAMP:20260422T033857
CREATED:20250414T181000Z
LAST-MODIFIED:20250414T181001Z
UID:7611-1745924400-1745929800@elkstonefarm.com
SUMMARY:Tea Ceremony in the Greenhouse with Marco Chung-Shu Lam\, April 29th\, 2025
DESCRIPTION:Please join us for a tea ceremony in our beautiful four season greenhouse. Drink tea in a grove of citrus and fig trees\, flowers and herbs\, while the cold weather is brewing outside. We will be sharing traditional bowl tea in the Cha Dao style of tea ceremony. Marco will share a bit about tea practice and there will be time after to relax in the greenhouse. \nCha Dao\, “The Way of Tea” is a practice that comes from the depth of Chinese culture and from the Taoist practices of relating to nature as medicine. The ancient Taoists and sages use tea as both plant medicine and as a path to cultivate awareness and to deepen one's mediation practice. Tea is one of the most accessible plant teachers and as a gentle spirit\, it can guide you into a more powerful and centered relationship with nature. \nLed by Marco Chung-Shu Lam\, who is one of our farm managers and also runs an integrative medicine clinic in Boulder. He is a skilled practitioner of internal martial arts\, acupuncture and herbalism who has practiced in Colorado for over twenty years. He has a deep love of tea and will be sharing from his personal collection of both aged shou pu-erhs and an exquisite oolong in this session.
URL:https://elkstonefarm.com/event/tea-ceremony-in-the-greenhouse-with-marco-chung-shu-lam-april-29th-2025/
LOCATION:Elkstone Farm\, 40345 Virtus Way\, Steamboat Springs\, CO\, 80487\, United States
CATEGORIES:Education,Education Classes
ATTACH;FMTTYPE=image/jpeg:https://elkstonefarm.com/wp-content/uploads/2023/12/bowls.jpeg
ORGANIZER;CN="Marco Lam":MAILTO:marco@elkstonefarm.com
END:VEVENT
BEGIN:VEVENT
DTSTART;TZID=America/Denver:20250412T100000
DTEND;TZID=America/Denver:20250412T163000
DTSTAMP:20260422T033857
CREATED:20250109T170007Z
LAST-MODIFIED:20250311T195233Z
UID:6947-1744452000-1744475400@elkstonefarm.com
SUMMARY:The Art of Hat Shaping and Branding: Crafting your Unique Style
DESCRIPTION:Step into the world of hat-making\, where tradition meets individuality! \nThis immersive class offers a rare opportunity to participate in the magical process of shaping and branding a hat.   Participants will understand the fundamentals of hat design\, shaping and branding.    You will go home with a hat that you made that reflects your unique style! \nVictoria Patti is the proprietor and artist behind Olde Town Hatter.   I've known Victoria for years as master craftswoman from her years of blacksmithing and making art.   We are excited to have her visit us on the farm!  We will take a break for a sumptuous farm-to-table lunch at noon served by the fabulous Chef Russell. \n  \n \nWhat's Included: \nAll materials (hat blanks\, branding\, embellishments) \nPersonalized Instruction and guidance \nTake-home custom hat! \nFarm-to-table Lunch!
URL:https://elkstonefarm.com/event/the-art-of-hat-shaping-and-branding-crafting-your-unique-style/
LOCATION:Elkstone Farm\, 40345 Virtus Way\, Steamboat Springs\, CO\, 80487\, United States
CATEGORIES:Classes,Education,Education Classes
ATTACH;FMTTYPE=image/png:https://elkstonefarm.com/wp-content/uploads/2025/01/3784176555811167306.png
ORGANIZER;CN="Marco Lam":MAILTO:marco@elkstonefarm.com
END:VEVENT
BEGIN:VEVENT
DTSTART;TZID=America/Denver:20250320T110000
DTEND;TZID=America/Denver:20250320T123000
DTSTAMP:20260422T033857
CREATED:20250304T180511Z
LAST-MODIFIED:20250304T180511Z
UID:7378-1742468400-1742473800@elkstonefarm.com
SUMMARY:Tea Ceremony in the Greenhouse with Marco Chung-Shu Lam\, March 20th\, 2025
DESCRIPTION:Please join us for a tea ceremony in our beautiful four season greenhouse. Drink tea in a grove of citrus and fig trees\, flowers and herbs\, while the cold weather is brewing outside. We will be sharing traditional bowl tea in the Cha Dao style of tea ceremony. Marco will share a bit about tea practice and there will be time after to relax in the greenhouse. \nCha Dao\, “The Way of Tea” is a practice that comes from the depth of Chinese culture and from the Taoist practices of relating to nature as medicine. The ancient Taoists and sages use tea as both plant medicine and as a path to cultivate awareness and to deepen one's mediation practice. Tea is one of the most accessible plant teachers and as a gentle spirit\, it can guide you into a more powerful and centered relationship with nature. \nLed by Marco Chung-Shu Lam\, who is one of our farm managers and also runs an integrative medicine clinic in Boulder. He is a skilled practitioner of internal martial arts\, acupuncture and herbalism who has practiced in Colorado for over twenty years. He has a deep love of tea and will be sharing from his personal collection of both aged shou pu-erhs and an exquisite oolong in this session.
URL:https://elkstonefarm.com/event/tea-ceremony-in-the-greenhouse-with-marco-chung-shu-lam-march-20th-2025-2/
LOCATION:Elkstone Farm\, 40345 Virtus Way\, Steamboat Springs\, CO\, 80487\, United States
CATEGORIES:Education,Education Classes
ATTACH;FMTTYPE=image/jpeg:https://elkstonefarm.com/wp-content/uploads/2023/12/bowls.jpeg
ORGANIZER;CN="Marco Lam":MAILTO:marco@elkstonefarm.com
END:VEVENT
BEGIN:VEVENT
DTSTART;TZID=America/Denver:20250306T180000
DTEND;TZID=America/Denver:20250306T210000
DTSTAMP:20260422T033857
CREATED:20250204T205016Z
LAST-MODIFIED:20250206T035400Z
UID:7204-1741284000-1741294800@elkstonefarm.com
SUMMARY:Book Club Dinner: The Serviceberry:  March 6th\, 2025
DESCRIPTION:This is the first of our more conversational family-style dinners at the farm.    We are excited to present an evening that nourishes us with good food from the farm while engaging in a deeper community experience.  Our farm manager\, Marco Lam\, will be facilitating the discussion. \nRobin Kimmerer's new book\, The Serviceberry\, is a bold and inspiring vision for how to orient our lives around gratitude\, reciprocity\, and community\, based on the lessons of the natural world. It's about indigenous wisdom\, how we want to live\, what we value\, how we want to be in relation\, and whether we can imagine and cultivate a system that nurtures mutual well-being and flourishing. \nThe book is an easy\, short read and the 128 pages can easily be read in the evening.  Please read the book beforehand and come prepared to be in dialogue about the book with your neighbors.   Several of us on the farm are reading the book and attending. \nChef Russell will make a family-style dinner which will be followed by a serviceberry dessert!
URL:https://elkstonefarm.com/event/book-club-dinner-the-serviceberry-march-6th-2025/
LOCATION:Elkstone Farm\, 40345 Virtus Way\, Steamboat Springs\, CO\, 80487\, United States
CATEGORIES:Education Classes
ATTACH;FMTTYPE=image/png:https://elkstonefarm.com/wp-content/uploads/2025/02/Screenshot-2025-02-04-at-1.49.14 PM.png
ORGANIZER;CN="Marco Lam":MAILTO:marco@elkstonefarm.com
END:VEVENT
END:VCALENDAR