BEGIN:VCALENDAR
VERSION:2.0
PRODID:-//Elkstone Farm - ECPv6.15.20//NONSGML v1.0//EN
CALSCALE:GREGORIAN
METHOD:PUBLISH
X-ORIGINAL-URL:https://elkstonefarm.com
X-WR-CALDESC:Events for Elkstone Farm
REFRESH-INTERVAL;VALUE=DURATION:PT1H
X-Robots-Tag:noindex
X-PUBLISHED-TTL:PT1H
BEGIN:VTIMEZONE
TZID:America/Denver
BEGIN:DAYLIGHT
TZOFFSETFROM:-0700
TZOFFSETTO:-0600
TZNAME:MDT
DTSTART:20250309T090000
END:DAYLIGHT
BEGIN:STANDARD
TZOFFSETFROM:-0600
TZOFFSETTO:-0700
TZNAME:MST
DTSTART:20251102T080000
END:STANDARD
BEGIN:DAYLIGHT
TZOFFSETFROM:-0700
TZOFFSETTO:-0600
TZNAME:MDT
DTSTART:20260308T090000
END:DAYLIGHT
BEGIN:STANDARD
TZOFFSETFROM:-0600
TZOFFSETTO:-0700
TZNAME:MST
DTSTART:20261101T080000
END:STANDARD
BEGIN:DAYLIGHT
TZOFFSETFROM:-0700
TZOFFSETTO:-0600
TZNAME:MDT
DTSTART:20270314T090000
END:DAYLIGHT
BEGIN:STANDARD
TZOFFSETFROM:-0600
TZOFFSETTO:-0700
TZNAME:MST
DTSTART:20271107T080000
END:STANDARD
END:VTIMEZONE
BEGIN:VEVENT
DTSTART;TZID=America/Denver:20260710T180000
DTEND;TZID=America/Denver:20260710T203000
DTSTAMP:20260423T034539
CREATED:20260120T173358Z
LAST-MODIFIED:20260120T173358Z
UID:8796-1783706400-1783715400@elkstonefarm.com
SUMMARY:Farm Dinner on July 10\, 2026
DESCRIPTION:Farm dinners are arranged as a series so you can make a reservation for a single evening or several at once! Follow the link in this post to learn more and purchase tickets. \nLearn More & Register
URL:https://elkstonefarm.com/event/farm-dinner-on-july-10-2026/
CATEGORIES:CSA,Dining
ATTACH;FMTTYPE=image/jpeg:https://elkstonefarm.com/wp-content/uploads/2021/04/121574038_672571533684738_2730726134199229297_n.jpg
END:VEVENT
BEGIN:VEVENT
DTSTART;TZID=America/Denver:20260724T180000
DTEND;TZID=America/Denver:20260724T203000
DTSTAMP:20260423T034539
CREATED:20260120T173521Z
LAST-MODIFIED:20260120T173521Z
UID:8798-1784916000-1784925000@elkstonefarm.com
SUMMARY:Farm Dinner on July 24\, 2026
DESCRIPTION:Farm dinners are arranged as a series so you can make a reservation for a single evening or several at once! Follow the link in this post to learn more and purchase tickets. \nLearn More & Register
URL:https://elkstonefarm.com/event/farm-dinner-on-july-24-2026/
CATEGORIES:CSA,Dining
ATTACH;FMTTYPE=image/jpeg:https://elkstonefarm.com/wp-content/uploads/2021/03/IMG_1705.jpg
END:VEVENT
BEGIN:VEVENT
DTSTART;TZID=America/Denver:20260814T180000
DTEND;TZID=America/Denver:20260814T203000
DTSTAMP:20260423T034539
CREATED:20260120T173618Z
LAST-MODIFIED:20260120T173618Z
UID:8800-1786730400-1786739400@elkstonefarm.com
SUMMARY:Farm Dinner on August 14\, 2026
DESCRIPTION:Farm dinners are arranged as a series so you can make a reservation for a single evening or several at once! Follow the link in this post to learn more and purchase tickets. \nLearn More & Register
URL:https://elkstonefarm.com/event/farm-dinner-on-august-14-2026/
CATEGORIES:CSA,Dining
ATTACH;FMTTYPE=image/webp:https://elkstonefarm.com/wp-content/uploads/2025/02/FarmDinner2025.webp
END:VEVENT
BEGIN:VEVENT
DTSTART;TZID=America/Denver:20260820T180000
DTEND;TZID=America/Denver:20260820T200000
DTSTAMP:20260423T034539
CREATED:20260421T211329Z
LAST-MODIFIED:20260421T214144Z
UID:9311-1787248800-1787256000@elkstonefarm.com
SUMMARY:String Quartet Dinner - August 20\, 2026
DESCRIPTION:Come join us for a bespoke evening of food and music as we are joined on the farm by the Steamboat Strings String Quartet.  These remarkable musicians will share the evening with Chef Russell\, providing sonic accompaniment to a seven-course farm-driven dinner on the back porch of the farmhouse\, nestled against the aspen grove.  Each course will be thoughtfully paired with musical pieces selected by the quartet\, and diners will be cloaked in sound as they savor the flavors of the farm in the height of its growing season.  Our dinners are meant to capture a moment in place and time\, expressing the terroir of the Yampa Valley and the produce of the microseason yielding an evening of culinary exploration unique to our alpine home. \nWe can accommodate any dietary restrictions with advance notice.  Elkstone Farm Dinners are BYOB\, and you will receive information about ordering or bringing wine. The evening will include tables of four to six guests each (subject to change depending on party sizes).  If you are a party of two\, you may be seated with another party of two.  If you would like to reserve a table for a larger party\, just let us know. \nThe ticket price includes all taxes and gratuities.  Tickets are transferable but not refundable. \nWe eagerly hope to see you in the aspen grove in August.
URL:https://elkstonefarm.com/event/string-quartet-dinner-august-20-2026/
LOCATION:Elkstone Farm\, 40345 Virtus Way\, Steamboat Springs\, CO\, 80487\, United States
CATEGORIES:Dining
ATTACH;FMTTYPE=image/jpeg:https://elkstonefarm.com/wp-content/uploads/2026/04/stringquartet.jpg
END:VEVENT
BEGIN:VEVENT
DTSTART;TZID=America/Denver:20260827T180000
DTEND;TZID=America/Denver:20260827T203000
DTSTAMP:20260423T034539
CREATED:20260120T173717Z
LAST-MODIFIED:20260120T173717Z
UID:8802-1787853600-1787862600@elkstonefarm.com
SUMMARY:Farm Dinner on August 27\, 2026
DESCRIPTION:Farm dinners are arranged as a series so you can make a reservation for a single evening or several at once! Follow the link in this post to learn more and purchase tickets. \nLearn More & Register
URL:https://elkstonefarm.com/event/farm-dinner-on-august-27-2026/
CATEGORIES:CSA,Dining
ATTACH;FMTTYPE=image/jpeg:https://elkstonefarm.com/wp-content/uploads/2023/07/unnamed6.jpg
END:VEVENT
BEGIN:VEVENT
DTSTART;TZID=America/Denver:20260828T180000
DTEND;TZID=America/Denver:20260828T203000
DTSTAMP:20260423T034539
CREATED:20260120T173816Z
LAST-MODIFIED:20260120T173816Z
UID:8804-1787940000-1787949000@elkstonefarm.com
SUMMARY:Farm Dinner on August 28\, 2026
DESCRIPTION:Farm dinners are arranged as a series so you can make a reservation for a single evening or several at once! Follow the link in this post to learn more and purchase tickets. \nLearn More & Register
URL:https://elkstonefarm.com/event/farm-dinner-on-august-28-2026/
CATEGORIES:CSA,Dining
ATTACH;FMTTYPE=image/jpeg:https://elkstonefarm.com/wp-content/uploads/2021/12/wine-and-dinner-1-scaled.jpg
END:VEVENT
BEGIN:VEVENT
DTSTART;TZID=America/Denver:20260911T173000
DTEND;TZID=America/Denver:20260911T203000
DTSTAMP:20260423T034539
CREATED:20260120T173940Z
LAST-MODIFIED:20260120T173940Z
UID:8806-1789147800-1789158600@elkstonefarm.com
SUMMARY:Farm Dinner on September 11\, 2026
DESCRIPTION:Farm dinners are arranged as a series so you can make a reservation for a single evening or several at once! Follow the link in this post to learn more and purchase tickets. \nLearn More & Register
URL:https://elkstonefarm.com/event/farm-dinner-on-september-11-2026/
CATEGORIES:CSA,Dining
ATTACH;FMTTYPE=image/jpeg:https://elkstonefarm.com/wp-content/uploads/2021/12/farm-to-table-scaled.jpg
END:VEVENT
BEGIN:VEVENT
DTSTART;TZID=America/Denver:20260924T173000
DTEND;TZID=America/Denver:20260924T203000
DTSTAMP:20260423T034539
CREATED:20260120T174144Z
LAST-MODIFIED:20260120T174144Z
UID:8808-1790271000-1790281800@elkstonefarm.com
SUMMARY:Farm Dinner on September 24\, 2026
DESCRIPTION:Farm dinners are arranged as a series so you can make a reservation for a single evening or several at once! Follow the link in this post to learn more and purchase tickets. \nLearn More & Register
URL:https://elkstonefarm.com/event/farm-dinner-on-september-24-2026/
CATEGORIES:CSA,Dining
ATTACH;FMTTYPE=image/jpeg:https://elkstonefarm.com/wp-content/uploads/2021/10/Dinner-twinkle-cropped.jpg
END:VEVENT
BEGIN:VEVENT
DTSTART;TZID=America/Denver:20261007T173000
DTEND;TZID=America/Denver:20261007T203000
DTSTAMP:20260423T034539
CREATED:20260120T174421Z
LAST-MODIFIED:20260120T174421Z
UID:8812-1791394200-1791405000@elkstonefarm.com
SUMMARY:Farm Dinner on October 7\, 2026
DESCRIPTION:Farm dinners are arranged as a series so you can make a reservation for a single evening or several at once! Follow the link in this post to learn more and purchase tickets. \nLearn More & Register
URL:https://elkstonefarm.com/event/farm-dinner-on-october-7-2026/
CATEGORIES:CSA,Dining
ATTACH;FMTTYPE=image/webp:https://elkstonefarm.com/wp-content/uploads/2025/02/FarmDinner2025.webp
END:VEVENT
END:VCALENDAR