BEGIN:VCALENDAR
VERSION:2.0
PRODID:-//Elkstone Farm - ECPv6.15.20//NONSGML v1.0//EN
CALSCALE:GREGORIAN
METHOD:PUBLISH
X-ORIGINAL-URL:https://elkstonefarm.com
X-WR-CALDESC:Events for Elkstone Farm
REFRESH-INTERVAL;VALUE=DURATION:PT1H
X-Robots-Tag:noindex
X-PUBLISHED-TTL:PT1H
BEGIN:VTIMEZONE
TZID:America/Denver
BEGIN:DAYLIGHT
TZOFFSETFROM:-0700
TZOFFSETTO:-0600
TZNAME:MDT
DTSTART:20250309T090000
END:DAYLIGHT
BEGIN:STANDARD
TZOFFSETFROM:-0600
TZOFFSETTO:-0700
TZNAME:MST
DTSTART:20251102T080000
END:STANDARD
BEGIN:DAYLIGHT
TZOFFSETFROM:-0700
TZOFFSETTO:-0600
TZNAME:MDT
DTSTART:20260308T090000
END:DAYLIGHT
BEGIN:STANDARD
TZOFFSETFROM:-0600
TZOFFSETTO:-0700
TZNAME:MST
DTSTART:20261101T080000
END:STANDARD
BEGIN:DAYLIGHT
TZOFFSETFROM:-0700
TZOFFSETTO:-0600
TZNAME:MDT
DTSTART:20270314T090000
END:DAYLIGHT
BEGIN:STANDARD
TZOFFSETFROM:-0600
TZOFFSETTO:-0700
TZNAME:MST
DTSTART:20271107T080000
END:STANDARD
END:VTIMEZONE
BEGIN:VEVENT
DTSTART;TZID=America/Denver:20260709T180000
DTEND;TZID=America/Denver:20260709T203000
DTSTAMP:20260421T085747
CREATED:20260120T173217Z
LAST-MODIFIED:20260120T173217Z
UID:8794-1783620000-1783629000@elkstonefarm.com
SUMMARY:Farm Dinner on July 9\, 2026
DESCRIPTION:Farm dinners are arranged as a series so you can make a reservation for a single evening or several at once! Follow the link in this post to learn more and purchase tickets. \nLearn More & Register
URL:https://elkstonefarm.com/event/farm-dinner-on-july-9-2026/
LOCATION:CO
CATEGORIES:CSA,Dining
ATTACH;FMTTYPE=image/jpeg:https://elkstonefarm.com/wp-content/uploads/2021/06/Dinner-on-Deck-2021.06-1000px.jpg
END:VEVENT
END:VCALENDAR