BEGIN:VCALENDAR
VERSION:2.0
PRODID:-//Elkstone Farm - ECPv6.15.20//NONSGML v1.0//EN
CALSCALE:GREGORIAN
METHOD:PUBLISH
X-WR-CALNAME:Elkstone Farm
X-ORIGINAL-URL:https://elkstonefarm.com
X-WR-CALDESC:Events for Elkstone Farm
REFRESH-INTERVAL;VALUE=DURATION:PT1H
X-Robots-Tag:noindex
X-PUBLISHED-TTL:PT1H
BEGIN:VTIMEZONE
TZID:America/Denver
BEGIN:DAYLIGHT
TZOFFSETFROM:-0700
TZOFFSETTO:-0600
TZNAME:MDT
DTSTART:20230312T090000
END:DAYLIGHT
BEGIN:STANDARD
TZOFFSETFROM:-0600
TZOFFSETTO:-0700
TZNAME:MST
DTSTART:20231105T080000
END:STANDARD
BEGIN:DAYLIGHT
TZOFFSETFROM:-0700
TZOFFSETTO:-0600
TZNAME:MDT
DTSTART:20240310T090000
END:DAYLIGHT
BEGIN:STANDARD
TZOFFSETFROM:-0600
TZOFFSETTO:-0700
TZNAME:MST
DTSTART:20241103T080000
END:STANDARD
BEGIN:DAYLIGHT
TZOFFSETFROM:-0700
TZOFFSETTO:-0600
TZNAME:MDT
DTSTART:20250309T090000
END:DAYLIGHT
BEGIN:STANDARD
TZOFFSETFROM:-0600
TZOFFSETTO:-0700
TZNAME:MST
DTSTART:20251102T080000
END:STANDARD
END:VTIMEZONE
BEGIN:VEVENT
DTSTART;TZID=America/Denver:20241101T173000
DTEND;TZID=America/Denver:20241101T203000
DTSTAMP:20260423T094908
CREATED:20241011T190146Z
LAST-MODIFIED:20241017T160555Z
UID:6791-1730482200-1730493000@elkstonefarm.com
SUMMARY:Chef's Table at Elkstone Farm - November 1
DESCRIPTION:The Chef's Table at Elkstone Farm is among the most unique dining experiences in our valley.  Eight guests sit at a communal table in the farm kitchen where they can view the cooking and are served directly by the chefs.  To mark the end of the summer season\, you can enjoy 7 courses of farm-focused and regionally inspired from-scratch cuisine in a beautiful setting on the farm. \nYou may reserve any number of seats you would like\, up to 8\, and you may have the opportunity to meet new friends among the other guests at the table. Alternatively\, book all 8 seats for yourselves and enjoy a private dinner at the farm! We can accommodate any dietary restrictions with advance notice. \nThe price of dinner at the chef's table is $175. Reserve your seat with a $100 deposit at this time and complete your purchase after dinner. We invite you to come join us to taste the terroir of our valley and our region!
URL:https://elkstonefarm.com/event/chefs-table-at-elkstone-farm-november-1/
LOCATION:Elkstone Farm\, 40345 Virtus Way\, Steamboat Springs\, CO\, 80487\, United States
CATEGORIES:Chef's Table Dinners,Dining
ATTACH;FMTTYPE=image/jpeg:https://elkstonefarm.com/wp-content/uploads/2023/07/unnamed2.jpg
END:VEVENT
BEGIN:VEVENT
DTSTART;TZID=America/Denver:20241115T173000
DTEND;TZID=America/Denver:20241115T203000
DTSTAMP:20260423T094908
CREATED:20241011T190702Z
LAST-MODIFIED:20241017T155205Z
UID:6794-1731691800-1731702600@elkstonefarm.com
SUMMARY:Chef's Table at Elkstone Farm - November 15
DESCRIPTION:The Chef's Table at Elkstone Farm is among the most unique dining experiences in our valley.  Eight guests sit at a communal table in the farm kitchen where they can view the cooking and are served directly by the chefs.  To mark the end of the summer season\, you can enjoy 7 courses of farm-focused and regionally inspired from-scratch cuisine in a beautiful setting on the farm. \nYou may reserve any number of seats you would like\, up to 8\, and you may have the opportunity to meet new friends among the other guests at the table. Alternatively\, book all 8 seats for yourselves and enjoy a private dinner at the farm! We can accommodate any dietary restrictions with advance notice. \nThe price of dinner at the chef's table is $175. Reserve your seat with a $100 deposit at this time and complete your purchase after dinner. We invite you to come join us to taste the terroir of our valley and our region!
URL:https://elkstonefarm.com/event/chefs-table-at-elkstone-farm-november-15/
LOCATION:Elkstone Farm\, 40345 Virtus Way\, Steamboat Springs\, CO\, 80487\, United States
CATEGORIES:Chef's Table Dinners,Dining
ATTACH;FMTTYPE=image/bmp:https://elkstonefarm.com/wp-content/uploads/2022/07/RussellGoodman1.bmp
END:VEVENT
END:VCALENDAR