BEGIN:VCALENDAR
VERSION:2.0
PRODID:-//Elkstone Farm - ECPv6.15.20//NONSGML v1.0//EN
CALSCALE:GREGORIAN
METHOD:PUBLISH
X-WR-CALNAME:Elkstone Farm
X-ORIGINAL-URL:https://elkstonefarm.com
X-WR-CALDESC:Events for Elkstone Farm
REFRESH-INTERVAL;VALUE=DURATION:PT1H
X-Robots-Tag:noindex
X-PUBLISHED-TTL:PT1H
BEGIN:VTIMEZONE
TZID:America/Denver
BEGIN:DAYLIGHT
TZOFFSETFROM:-0700
TZOFFSETTO:-0600
TZNAME:MDT
DTSTART:20230312T090000
END:DAYLIGHT
BEGIN:STANDARD
TZOFFSETFROM:-0600
TZOFFSETTO:-0700
TZNAME:MST
DTSTART:20231105T080000
END:STANDARD
BEGIN:DAYLIGHT
TZOFFSETFROM:-0700
TZOFFSETTO:-0600
TZNAME:MDT
DTSTART:20240310T090000
END:DAYLIGHT
BEGIN:STANDARD
TZOFFSETFROM:-0600
TZOFFSETTO:-0700
TZNAME:MST
DTSTART:20241103T080000
END:STANDARD
BEGIN:DAYLIGHT
TZOFFSETFROM:-0700
TZOFFSETTO:-0600
TZNAME:MDT
DTSTART:20250309T090000
END:DAYLIGHT
BEGIN:STANDARD
TZOFFSETFROM:-0600
TZOFFSETTO:-0700
TZNAME:MST
DTSTART:20251102T080000
END:STANDARD
BEGIN:DAYLIGHT
TZOFFSETFROM:-0700
TZOFFSETTO:-0600
TZNAME:MDT
DTSTART:20260308T090000
END:DAYLIGHT
BEGIN:STANDARD
TZOFFSETFROM:-0600
TZOFFSETTO:-0700
TZNAME:MST
DTSTART:20261101T080000
END:STANDARD
END:VTIMEZONE
BEGIN:VEVENT
DTSTART;TZID=America/Denver:20250911T180000
DTEND;TZID=America/Denver:20250911T190000
DTSTAMP:20260424T105630
CREATED:20250825T203017Z
LAST-MODIFIED:20250827T213445Z
UID:8095-1757613600-1757617200@elkstonefarm.com
SUMMARY:Yoga in the Grove with Britta Bodine\, September 11th\, 6pm\, 2025 - gentle vinyasa yoga
DESCRIPTION:Imagine practicing yoga outside under the aspen trees as they gently sway and the leaves dance in the dappled light. We built a beautiful deck by our pond in the aspen grove as a place to connect to nature and practice yoga upon. We keep the classes small and bring our favorite local yoga teachers to lead an incredible practice. Join us on Thursday afternoons from 6-7pm to nourish your body and mind and feel the magic at Elkstone Farm. \n\n$15/class\, register online\n$5 discount if you ride your bike!\nLocation:  40345 Virtus Way (Note: this is a different address from that of the summer farm stand.).  Please park at the hoop houses and walk up the drive and around to the yoga deck in the aspen grove.\nSpace is limited.  Register ahead to secure a spot.\n\n  \n \n  \nWith over 17 years of yoga teaching experience and a 500-hour Level Two certification\, Britta Bodine brings deep knowledge\, adaptability\, and a grounded presence to every class. Since 2009\, she has been a beloved instructor at the Old Town Hot Springs\, sharing yoga with students of all ages\, abilities\, and backgrounds. Her alignment-based vinyasa style is both accessible and invigorating\, rooted in mindful movement and open to all levels. Whether you’re stepping onto the mat for the first time or deepening a long-time practice\, Britta creates an inclusive\, empowering space to grow. \n 
URL:https://elkstonefarm.com/event/yoga-in-the-grove-with-britta-bodine-6pm-2025-gentle-vinyasa-yoga-2/
LOCATION:Elkstone Farm\, 40345 Virtus Way\, Steamboat Springs\, CO\, 80487\, United States
CATEGORIES:Classes,Yoga
ATTACH;FMTTYPE=image/jpeg:https://elkstonefarm.com/wp-content/uploads/2022/05/elk-stone-yoga-4-forweb.jpg
ORGANIZER;CN="Britta Bodine":MAILTO:brittabodine@gmail.com
END:VEVENT
BEGIN:VEVENT
DTSTART;TZID=America/Denver:20250821T180000
DTEND;TZID=America/Denver:20250821T190000
DTSTAMP:20260424T105630
CREATED:20250701T223104Z
LAST-MODIFIED:20250701T223104Z
UID:7937-1755799200-1755802800@elkstonefarm.com
SUMMARY:Yoga in the Grove with Britta Bodine\, August 21st\, 6pm\, 2025 - gentle vinyasa yoga
DESCRIPTION:Imagine practicing yoga outside under the aspen trees as they gently sway and the leaves dance in the dappled light. We built a beautiful deck by our pond in the aspen grove as a place to connect to nature and practice yoga upon. We keep the classes small and bring our favorite local yoga teachers to lead an incredible practice. Join us on Thursday afternoons from 6-7pm to nourish your body and mind and feel the magic at Elkstone Farm. \n\n$15/class\, register online\n$5 discount if you ride your bike!\nLocation:  40345 Virtus Way (Note: this is a different address from that of the summer farm stand.).  Please park at the hoop houses and walk up the drive and around to the yoga deck in the aspen grove.\nSpace is limited.  Register ahead to secure a spot.\n\n  \n \n  \nWith over 17 years of yoga teaching experience and a 500-hour Level Two certification\, Britta Bodine brings deep knowledge\, adaptability\, and a grounded presence to every class. Since 2009\, she has been a beloved instructor at the Old Town Hot Springs\, sharing yoga with students of all ages\, abilities\, and backgrounds. Her alignment-based vinyasa style is both accessible and invigorating\, rooted in mindful movement and open to all levels. Whether you’re stepping onto the mat for the first time or deepening a long-time practice\, Britta creates an inclusive\, empowering space to grow. \n 
URL:https://elkstonefarm.com/event/yoga-in-the-grove-with-britta-bodine-august-21st-6pm-2025-gentle-vinyasa-yoga/
LOCATION:Elkstone Farm\, 40345 Virtus Way\, Steamboat Springs\, CO\, 80487\, United States
CATEGORIES:Classes,Yoga
ATTACH;FMTTYPE=image/jpeg:https://elkstonefarm.com/wp-content/uploads/2022/05/elk-stone-yoga-4-forweb.jpg
ORGANIZER;CN="Britta Bodine":MAILTO:brittabodine@gmail.com
END:VEVENT
BEGIN:VEVENT
DTSTART;TZID=America/Denver:20250814T180000
DTEND;TZID=America/Denver:20250814T190000
DTSTAMP:20260424T105630
CREATED:20250701T222804Z
LAST-MODIFIED:20250701T222804Z
UID:7933-1755194400-1755198000@elkstonefarm.com
SUMMARY:Yoga in the Grove with Britta Bodine\, August 14th\, 6pm\, 2025 - gentle vinyasa yoga
DESCRIPTION:Imagine practicing yoga outside under the aspen trees as they gently sway and the leaves dance in the dappled light. We built a beautiful deck by our pond in the aspen grove as a place to connect to nature and practice yoga upon. We keep the classes small and bring our favorite local yoga teachers to lead an incredible practice. Join us on Thursday afternoons from 6-7pm to nourish your body and mind and feel the magic at Elkstone Farm. \n\n$15/class\, register online\n$5 discount if you ride your bike!\nLocation:  40345 Virtus Way (Note: this is a different address from that of the summer farm stand.).  Please park at the hoop houses and walk up the drive and around to the yoga deck in the aspen grove.\nSpace is limited.  Register ahead to secure a spot.\n\n  \n \n  \nWith over 17 years of yoga teaching experience and a 500-hour Level Two certification\, Britta Bodine brings deep knowledge\, adaptability\, and a grounded presence to every class. Since 2009\, she has been a beloved instructor at the Old Town Hot Springs\, sharing yoga with students of all ages\, abilities\, and backgrounds. Her alignment-based vinyasa style is both accessible and invigorating\, rooted in mindful movement and open to all levels. Whether you’re stepping onto the mat for the first time or deepening a long-time practice\, Britta creates an inclusive\, empowering space to grow. \n 
URL:https://elkstonefarm.com/event/yoga-in-the-grove-with-britta-bodine-august-14th-6pm-2025-gentle-vinyasa-yoga/
LOCATION:Elkstone Farm\, 40345 Virtus Way\, Steamboat Springs\, CO\, 80487\, United States
CATEGORIES:Classes,Yoga
ATTACH;FMTTYPE=image/jpeg:https://elkstonefarm.com/wp-content/uploads/2022/05/elk-stone-yoga-4-forweb.jpg
ORGANIZER;CN="Britta Bodine":MAILTO:brittabodine@gmail.com
END:VEVENT
BEGIN:VEVENT
DTSTART;TZID=America/Denver:20250804T090000
DTEND;TZID=America/Denver:20250804T100000
DTSTAMP:20260424T105630
CREATED:20250701T212545Z
LAST-MODIFIED:20250701T212847Z
UID:7906-1754298000-1754301600@elkstonefarm.com
SUMMARY:Yoga in the Grove with Britta Bodine\, August 4th\, 9am\, 2025 - gentle vinyasa yoga
DESCRIPTION:Imagine practicing yoga outside under the aspen trees as they gently sway and the leaves dance in the dappled light. We built a beautiful deck by our pond in the aspen grove as a place to connect to nature and practice yoga upon. We keep the classes small and bring our favorite local yoga teachers to lead an incredible practice. Join us on Monday mornings from 9-10am to nourish your body and mind and feel the magic at Elkstone Farm. \n\n$15/class\, register online\n$5 discount if you ride your bike!\nLocation:  40345 Virtus Way (Note: this is a different address from that of the summer farm stand.).  Please park at the hoop houses and walk up the drive and around to the yoga deck in the aspen grove.\nSpace is limited.  Register ahead to secure a spot.\n\n  \n \n  \nWith over 17 years of yoga teaching experience and a 500-hour Level Two certification\, Britta Bodine brings deep knowledge\, adaptability\, and a grounded presence to every class. Since 2009\, she has been a beloved instructor at the Old Town Hot Springs\, sharing yoga with students of all ages\, abilities\, and backgrounds. Her alignment-based vinyasa style is both accessible and invigorating\, rooted in mindful movement and open to all levels. Whether you’re stepping onto the mat for the first time or deepening a long-time practice\, Britta creates an inclusive\, empowering space to grow. \n 
URL:https://elkstonefarm.com/event/yoga-in-the-grove-with-britta-bodine-august-4th-9am-2025-gentle-vinyasa-yoga/
LOCATION:Elkstone Farm\, 40345 Virtus Way\, Steamboat Springs\, CO\, 80487\, United States
CATEGORIES:Classes,Yoga
ATTACH;FMTTYPE=image/jpeg:https://elkstonefarm.com/wp-content/uploads/2022/05/elk-stone-yoga-4-forweb.jpg
ORGANIZER;CN="Britta Bodine":MAILTO:brittabodine@gmail.com
END:VEVENT
BEGIN:VEVENT
DTSTART;TZID=America/Denver:20250728T090000
DTEND;TZID=America/Denver:20250728T100000
DTSTAMP:20260424T105630
CREATED:20250701T221925Z
LAST-MODIFIED:20250701T221925Z
UID:7920-1753693200-1753696800@elkstonefarm.com
SUMMARY:Yoga in the Grove with Britta Bodine\, July 28th\, 9am\, 2025 - gentle vinyasa yoga
DESCRIPTION:Imagine practicing yoga outside under the aspen trees as they gently sway and the leaves dance in the dappled light. We built a beautiful deck by our pond in the aspen grove as a place to connect to nature and practice yoga upon. We keep the classes small and bring our favorite local yoga teachers to lead an incredible practice. Join us on Monday mornings from 9-10am to nourish your body and mind and feel the magic at Elkstone Farm. \n\n$15/class\, register online\n$5 discount if you ride your bike!\nLocation:  40345 Virtus Way (Note: this is a different address from that of the summer farm stand.).  Please park at the hoop houses and walk up the drive and around to the yoga deck in the aspen grove.\nSpace is limited.  Register ahead to secure a spot.\n\n  \n \n  \nWith over 17 years of yoga teaching experience and a 500-hour Level Two certification\, Britta Bodine brings deep knowledge\, adaptability\, and a grounded presence to every class. Since 2009\, she has been a beloved instructor at the Old Town Hot Springs\, sharing yoga with students of all ages\, abilities\, and backgrounds. Her alignment-based vinyasa style is both accessible and invigorating\, rooted in mindful movement and open to all levels. Whether you’re stepping onto the mat for the first time or deepening a long-time practice\, Britta creates an inclusive\, empowering space to grow. \n 
URL:https://elkstonefarm.com/event/yoga-in-the-grove-with-britta-bodine-july-28th-9am-2025-gentle-vinyasa-yoga-2/
LOCATION:Elkstone Farm\, 40345 Virtus Way\, Steamboat Springs\, CO\, 80487\, United States
CATEGORIES:Classes,Yoga
ATTACH;FMTTYPE=image/jpeg:https://elkstonefarm.com/wp-content/uploads/2022/05/elk-stone-yoga-4-forweb.jpg
ORGANIZER;CN="Britta Bodine":MAILTO:brittabodine@gmail.com
END:VEVENT
BEGIN:VEVENT
DTSTART;TZID=America/Denver:20250724T180000
DTEND;TZID=America/Denver:20250724T190000
DTSTAMP:20260424T105630
CREATED:20250701T213006Z
LAST-MODIFIED:20250701T222247Z
UID:7911-1753380000-1753383600@elkstonefarm.com
SUMMARY:Yoga in the Grove with Britta Bodine\, July 24th\, 6pm\, 2025 - gentle vinyasa yoga
DESCRIPTION:Imagine practicing yoga outside under the aspen trees as they gently sway and the leaves dance in the dappled light. We built a beautiful deck by our pond in the aspen grove as a place to connect to nature and practice yoga upon. We keep the classes small and bring our favorite local yoga teachers to lead an incredible practice. Join us on Thursday afternoons from 6-7pm to nourish your body and mind and feel the magic at Elkstone Farm. \n\n$15/class\, register online\n$5 discount if you ride your bike!\nLocation:  40345 Virtus Way (Note: this is a different address from that of the summer farm stand.).  Please park at the hoop houses and walk up the drive and around to the yoga deck in the aspen grove.\nSpace is limited.  Register ahead to secure a spot.\n\n  \n \n  \nWith over 17 years of yoga teaching experience and a 500-hour Level Two certification\, Britta Bodine brings deep knowledge\, adaptability\, and a grounded presence to every class. Since 2009\, she has been a beloved instructor at the Old Town Hot Springs\, sharing yoga with students of all ages\, abilities\, and backgrounds. Her alignment-based vinyasa style is both accessible and invigorating\, rooted in mindful movement and open to all levels. Whether you’re stepping onto the mat for the first time or deepening a long-time practice\, Britta creates an inclusive\, empowering space to grow. \n 
URL:https://elkstonefarm.com/event/yoga-in-the-grove-with-britta-bodine-july-28th-9am-2025-gentle-vinyasa-yoga/
LOCATION:Elkstone Farm\, 40345 Virtus Way\, Steamboat Springs\, CO\, 80487\, United States
CATEGORIES:Classes,Yoga
ATTACH;FMTTYPE=image/jpeg:https://elkstonefarm.com/wp-content/uploads/2022/05/elk-stone-yoga-4-forweb.jpg
ORGANIZER;CN="Britta Bodine":MAILTO:brittabodine@gmail.com
END:VEVENT
BEGIN:VEVENT
DTSTART;TZID=America/Denver:20250721T090000
DTEND;TZID=America/Denver:20250721T100000
DTSTAMP:20260424T105630
CREATED:20250701T212102Z
LAST-MODIFIED:20250701T212102Z
UID:7902-1753088400-1753092000@elkstonefarm.com
SUMMARY:Yoga in the Grove with Britta Bodine\, July 21st\, 9am\, 2025 - gentle vinyasa yoga
DESCRIPTION:Imagine practicing yoga outside under the aspen trees as they gently sway and the leaves dance in the dappled light. We built a beautiful deck by our pond in the aspen grove as a place to connect to nature and practice yoga upon. We keep the classes small and bring our favorite local yoga teachers to lead an incredible practice. Join us on Monday mornings from 9-10am to nourish your body and mind and feel the magic at Elkstone Farm. \n\n$15/class\, register online\n$5 discount if you ride your bike!\nLocation:  40345 Virtus Way (Note: this is a different address from that of the summer farm stand.).  Please park at the hoop houses and walk up the drive and around to the yoga deck in the aspen grove.\nSpace is limited.  Register ahead to secure a spot.\n\n  \n \n  \nWith over 17 years of yoga teaching experience and a 500-hour Level Two certification\, Britta Bodine brings deep knowledge\, adaptability\, and a grounded presence to every class. Since 2009\, she has been a beloved instructor at the Old Town Hot Springs\, sharing yoga with students of all ages\, abilities\, and backgrounds. Her alignment-based vinyasa style is both accessible and invigorating\, rooted in mindful movement and open to all levels. Whether you’re stepping onto the mat for the first time or deepening a long-time practice\, Britta creates an inclusive\, empowering space to grow. \n 
URL:https://elkstonefarm.com/event/yoga-in-the-grove-with-britta-bodine-july-21st-9am-2025-gentle-vinyasa-yoga/
LOCATION:Elkstone Farm\, 40345 Virtus Way\, Steamboat Springs\, CO\, 80487\, United States
CATEGORIES:Classes,Yoga
ATTACH;FMTTYPE=image/jpeg:https://elkstonefarm.com/wp-content/uploads/2022/05/elk-stone-yoga-4-forweb.jpg
ORGANIZER;CN="Britta Bodine":MAILTO:brittabodine@gmail.com
END:VEVENT
BEGIN:VEVENT
DTSTART;TZID=America/Denver:20250714T090000
DTEND;TZID=America/Denver:20250714T100000
DTSTAMP:20260424T105630
CREATED:20250701T211942Z
LAST-MODIFIED:20250701T211942Z
UID:7898-1752483600-1752487200@elkstonefarm.com
SUMMARY:Yoga in the Grove with Britta Bodine\, July 14th\, 9am\, 2025 - gentle vinyasa yoga
DESCRIPTION:Imagine practicing yoga outside under the aspen trees as they gently sway and the leaves dance in the dappled light. We built a beautiful deck by our pond in the aspen grove as a place to connect to nature and practice yoga upon. We keep the classes small and bring our favorite local yoga teachers to lead an incredible practice. Join us on Monday mornings from 9-10am to nourish your body and mind and feel the magic at Elkstone Farm. \n\n$15/class\, register online\n$5 discount if you ride your bike!\nLocation:  40345 Virtus Way (Note: this is a different address from that of the summer farm stand.).  Please park at the hoop houses and walk up the drive and around to the yoga deck in the aspen grove.\nSpace is limited.  Register ahead to secure a spot.\n\n  \n \n  \nWith over 17 years of yoga teaching experience and a 500-hour Level Two certification\, Britta Bodine brings deep knowledge\, adaptability\, and a grounded presence to every class. Since 2009\, she has been a beloved instructor at the Old Town Hot Springs\, sharing yoga with students of all ages\, abilities\, and backgrounds. Her alignment-based vinyasa style is both accessible and invigorating\, rooted in mindful movement and open to all levels. Whether you’re stepping onto the mat for the first time or deepening a long-time practice\, Britta creates an inclusive\, empowering space to grow. \n 
URL:https://elkstonefarm.com/event/yoga-in-the-grove-with-britta-bodine-july-14th-9am-2025-gentle-vinyasa-yoga/
LOCATION:Elkstone Farm\, 40345 Virtus Way\, Steamboat Springs\, CO\, 80487\, United States
CATEGORIES:Classes,Yoga
ATTACH;FMTTYPE=image/jpeg:https://elkstonefarm.com/wp-content/uploads/2022/05/elk-stone-yoga-4-forweb.jpg
ORGANIZER;CN="Britta Bodine":MAILTO:brittabodine@gmail.com
END:VEVENT
BEGIN:VEVENT
DTSTART;TZID=America/Denver:20250710T180000
DTEND;TZID=America/Denver:20250710T190000
DTSTAMP:20260424T105630
CREATED:20250701T204244Z
LAST-MODIFIED:20250701T211641Z
UID:7891-1752170400-1752174000@elkstonefarm.com
SUMMARY:Yoga in the Grove with Britta Bodine\, July 10th 6pm\, 2025 - gentle vinyasa  yoga
DESCRIPTION:Imagine practicing yoga outside under the aspen trees as they gently sway and the leaves dance in the dappled light. We built a beautiful deck by our pond in the aspen grove as a place to connect to nature and practice yoga upon. We keep the classes small and bring our favorite local yoga teachers to lead an incredible practice. Join us on Thursday afternoons from 6-7pm to nourish your body and mind and feel the magic at Elkstone Farm. \n\n$15/class\, register online\n$5 discount if you ride your bike!\nLocation:  40345 Virtus Way (Note: this is a different address from that of the summer farm stand.).  Please park at the hoop houses and walk up the drive and around to the yoga deck in the aspen grove.\nSpace is limited.  Register ahead to secure a spot.\n\n  \n \n  \nWith over 17 years of yoga teaching experience and a 500-hour Level Two certification\, Britta Bodine brings deep knowledge\, adaptability\, and a grounded presence to every class. Since 2009\, she has been a beloved instructor at the Old Town Hot Springs\, sharing yoga with students of all ages\, abilities\, and backgrounds. Her alignment-based vinyasa style is both accessible and invigorating\, rooted in mindful movement and open to all levels. Whether you’re stepping onto the mat for the first time or deepening a long-time practice\, Britta creates an inclusive\, empowering space to grow. \n 
URL:https://elkstonefarm.com/event/yoga-in-the-grove-with-britta-bodine-july-10th-6pm-2025-iyengar-yoga/
LOCATION:Elkstone Farm\, 40345 Virtus Way\, Steamboat Springs\, CO\, 80487\, United States
CATEGORIES:Classes,Yoga
ATTACH;FMTTYPE=image/jpeg:https://elkstonefarm.com/wp-content/uploads/2022/05/elk-stone-yoga-4-forweb.jpg
ORGANIZER;CN="Britta Bodine":MAILTO:brittabodine@gmail.com
END:VEVENT
BEGIN:VEVENT
DTSTART;TZID=America/Denver:20250707T090000
DTEND;TZID=America/Denver:20250707T100000
DTSTAMP:20260424T105630
CREATED:20250701T203916Z
LAST-MODIFIED:20250701T211540Z
UID:7886-1751878800-1751882400@elkstonefarm.com
SUMMARY:Yoga in the Grove with Britta Bodine\, July 7th\, 9am\, 2025 - gentle vinyasa yoga
DESCRIPTION:Imagine practicing yoga outside under the aspen trees as they gently sway and the leaves dance in the dappled light. We built a beautiful deck by our pond in the aspen grove as a place to connect to nature and practice yoga upon. We keep the classes small and bring our favorite local yoga teachers to lead an incredible practice. Join us on Monday mornings from 9-10am to nourish your body and mind and feel the magic at Elkstone Farm. \n\n$15/class\, register online\n$5 discount if you ride your bike!\nLocation:  40345 Virtus Way (Note: this is a different address from that of the summer farm stand.).  Please park at the hoop houses and walk up the drive and around to the yoga deck in the aspen grove.\nSpace is limited.  Register ahead to secure a spot.\n\n  \n \n  \nWith over 17 years of yoga teaching experience and a 500-hour Level Two certification\, Britta Bodine brings deep knowledge\, adaptability\, and a grounded presence to every class. Since 2009\, she has been a beloved instructor at the Old Town Hot Springs\, sharing yoga with students of all ages\, abilities\, and backgrounds. Her alignment-based vinyasa style is both accessible and invigorating\, rooted in mindful movement and open to all levels. Whether you’re stepping onto the mat for the first time or deepening a long-time practice\, Britta creates an inclusive\, empowering space to grow. \n 
URL:https://elkstonefarm.com/event/yoga-in-the-grove-with-britta-bodine-july-8th-2025-iyengar-yoga/
LOCATION:Elkstone Farm\, 40345 Virtus Way\, Steamboat Springs\, CO\, 80487\, United States
CATEGORIES:Classes,Yoga
ATTACH;FMTTYPE=image/jpeg:https://elkstonefarm.com/wp-content/uploads/2022/05/elk-stone-yoga-4-forweb.jpg
ORGANIZER;CN="Britta Bodine":MAILTO:brittabodine@gmail.com
END:VEVENT
BEGIN:VEVENT
DTSTART;TZID=America/Denver:20240821T163000
DTEND;TZID=America/Denver:20240821T174500
DTSTAMP:20260424T105630
CREATED:20240725T172309Z
LAST-MODIFIED:20240821T002915Z
UID:6648-1724257800-1724262300@elkstonefarm.com
SUMMARY:Yoga in the Grove:  Jessica Berg - Iyengar yoga
DESCRIPTION:Imagine practicing yoga outside under the aspen trees as they gently sway and the leaves dance in the dappled light. We built a beautiful deck by our pond in the aspen grove as a place to connect to nature and practice yoga upon. We keep the classes small and bring our favorite local yoga teachers to lead an incredible practice. Join us on Wednesday afternoons from 4:30-5:45 PM to nourish your body and mind and feel the magic at Elkstone Farm. \n\n$15/class\, register online for free and pay the teacher at the class\n$5 discount if you ride your bike!\nLocation:  40345 Virtus Way (Note: this is a different address from that of the summer farm stand.).  Please park at the hoop houses and walk up the drive and around to the yoga deck in the aspen grove.\nSpace is limited.  Register ahead to secure a spot.\n\n \n  \nJessica Berg is a longtime Iyengar Yoga practitioner and has taught adults and children since 2004. She began studying yoga while traveling in India in 1998\, and explored kundalini and various forms of hatha yoga before discovering the Iyengar method in 2002. Jessica is also a violinist with the Steamboat Symphony Orchestra\, and the Steamboat String Quartet. She teaches with the Strings department at the Steamboat Mountain School\, and maintains a busy private Suzuki violin and viola studio. Jessica has taught Yoga for Musicians\, musical movement and violin at Suzuki Institutes and currently teaches yoga to figure skaters at the Steamboat Skating Club. She especially loves exploring the link between music and movement. \n 
URL:https://elkstonefarm.com/event/yoga-in-the-grove-jessica-berg-iyengar-yoga-2/
LOCATION:Elkstone Farm\, 40345 Virtus Way\, Steamboat Springs\, CO\, 80487\, United States
CATEGORIES:Classes,Yoga
ATTACH;FMTTYPE=image/jpeg:https://elkstonefarm.com/wp-content/uploads/2022/05/elk-stone-yoga-4-forweb.jpg
ORGANIZER;CN="Britta Bodine":MAILTO:brittabodine@gmail.com
END:VEVENT
BEGIN:VEVENT
DTSTART;TZID=America/Denver:20240807T163000
DTEND;TZID=America/Denver:20240807T174500
DTSTAMP:20260424T105630
CREATED:20240725T171922Z
LAST-MODIFIED:20240725T172025Z
UID:6644-1723048200-1723052700@elkstonefarm.com
SUMMARY:Yoga in the Grove:  Jessica Berg - Iyengar yoga
DESCRIPTION:Imagine practicing yoga outside under the aspen trees as they gently sway and the leaves dance in the dappled light. We built a beautiful deck by our pond in the aspen grove as a place to connect to nature and practice yoga upon. We keep the classes small and bring our favorite local yoga teachers to lead an incredible practice. Join us on Tuesday afternoons from 4:30-5:45 PM to nourish your body and mind and feel the magic at Elkstone Farm. \n\n$15/class\, register online for free and pay the teacher at the class\n$5 discount if you ride your bike!\nLocation:  40345 Virtus Way (Note: this is a different address from that of the summer farm stand.).  Please park at the hoop houses and walk up the drive and around to the yoga deck in the aspen grove.\nSpace is limited.  Register ahead to secure a spot.\n\n \n  \nJessica Berg is a longtime Iyengar Yoga practitioner and has taught adults and children since 2004. She began studying yoga while traveling in India in 1998\, and explored kundalini and various forms of hatha yoga before discovering the Iyengar method in 2002. Jessica is also a violinist with the Steamboat Symphony Orchestra\, and the Steamboat String Quartet. She teaches with the Strings department at the Steamboat Mountain School\, and maintains a busy private Suzuki violin and viola studio. Jessica has taught Yoga for Musicians\, musical movement and violin at Suzuki Institutes and currently teaches yoga to figure skaters at the Steamboat Skating Club. She especially loves exploring the link between music and movement. \n 
URL:https://elkstonefarm.com/event/yoga-in-the-grove-jessica-berg-iyengar-yoga/
LOCATION:Elkstone Farm\, 40345 Virtus Way\, Steamboat Springs\, CO\, 80487\, United States
CATEGORIES:Classes,Yoga
ATTACH;FMTTYPE=image/jpeg:https://elkstonefarm.com/wp-content/uploads/2022/05/elk-stone-yoga-4-forweb.jpg
ORGANIZER;CN="Britta Bodine":MAILTO:brittabodine@gmail.com
END:VEVENT
BEGIN:VEVENT
DTSTART;TZID=America/Denver:20240731T163000
DTEND;TZID=America/Denver:20240731T174500
DTSTAMP:20260424T105630
CREATED:20240725T164311Z
LAST-MODIFIED:20240725T172124Z
UID:6636-1722443400-1722447900@elkstonefarm.com
SUMMARY:Yoga in the Grove:  Jessica Berg - Iyengar yoga
DESCRIPTION:Imagine practicing yoga outside under the aspen trees as they gently sway and the leaves dance in the dappled light. We built a beautiful deck by our pond in the aspen grove as a place to connect to nature and practice yoga upon. We keep the classes small and bring our favorite local yoga teachers to lead an incredible practice. Join us on Tuesday afternoons from 4:30-5:45 PM to nourish your body and mind and feel the magic at Elkstone Farm. \n\n$15/class\, register online for free and pay the teacher at the class\n$5 discount if you ride your bike!\nLocation:  40345 Virtus Way (Note: this is a different address from that of the summer farm stand.).  Please park at the hoop houses and walk up the drive and around to the yoga deck in the aspen grove.\nSpace is limited.  Register ahead to secure a spot.\n\n \n  \nJessica Berg is a longtime Iyengar Yoga practitioner and has taught adults and children since 2004. She began studying yoga while traveling in India in 1998\, and explored kundalini and various forms of hatha yoga before discovering the Iyengar method in 2002. Jessica is also a violinist with the Steamboat Symphony Orchestra\, and the Steamboat String Quartet. She teaches with the Strings department at the Steamboat Mountain School\, and maintains a busy private Suzuki violin and viola studio. Jessica has taught Yoga for Musicians\, musical movement and violin at Suzuki Institutes and currently teaches yoga to figure skaters at the Steamboat Skating Club. She especially loves exploring the link between music and movement. \n 
URL:https://elkstonefarm.com/event/iygengar/
LOCATION:Elkstone Farm\, 40345 Virtus Way\, Steamboat Springs\, CO\, 80487\, United States
CATEGORIES:Classes,Yoga
ATTACH;FMTTYPE=image/jpeg:https://elkstonefarm.com/wp-content/uploads/2022/05/elk-stone-yoga-4-forweb.jpg
ORGANIZER;CN="Britta Bodine":MAILTO:brittabodine@gmail.com
END:VEVENT
END:VCALENDAR