BEGIN:VCALENDAR
VERSION:2.0
PRODID:-//Elkstone Farm - ECPv6.15.20//NONSGML v1.0//EN
CALSCALE:GREGORIAN
METHOD:PUBLISH
X-ORIGINAL-URL:https://elkstonefarm.com
X-WR-CALDESC:Events for Elkstone Farm
REFRESH-INTERVAL;VALUE=DURATION:PT1H
X-Robots-Tag:noindex
X-PUBLISHED-TTL:PT1H
BEGIN:VTIMEZONE
TZID:America/Denver
BEGIN:DAYLIGHT
TZOFFSETFROM:-0700
TZOFFSETTO:-0600
TZNAME:MDT
DTSTART:20250309T090000
END:DAYLIGHT
BEGIN:STANDARD
TZOFFSETFROM:-0600
TZOFFSETTO:-0700
TZNAME:MST
DTSTART:20251102T080000
END:STANDARD
BEGIN:DAYLIGHT
TZOFFSETFROM:-0700
TZOFFSETTO:-0600
TZNAME:MDT
DTSTART:20260308T090000
END:DAYLIGHT
BEGIN:STANDARD
TZOFFSETFROM:-0600
TZOFFSETTO:-0700
TZNAME:MST
DTSTART:20261101T080000
END:STANDARD
BEGIN:DAYLIGHT
TZOFFSETFROM:-0700
TZOFFSETTO:-0600
TZNAME:MDT
DTSTART:20270314T090000
END:DAYLIGHT
BEGIN:STANDARD
TZOFFSETFROM:-0600
TZOFFSETTO:-0700
TZNAME:MST
DTSTART:20271107T080000
END:STANDARD
END:VTIMEZONE
BEGIN:VEVENT
DTSTART;TZID=America/Denver:20260317T110000
DTEND;TZID=America/Denver:20260317T133000
DTSTAMP:20260424T220340
CREATED:20260218T211343Z
LAST-MODIFIED:20260218T211538Z
UID:9004-1773745200-1773754200@elkstonefarm.com
SUMMARY:Cooking Class: St. Patrick's Day!
DESCRIPTION:Join us in the kitchen on March 17\, 2026 - St Patrick's Day - for an entertaining and educational cooking class focused on dishes appropriate for St. Patrick's Day as seen through the prism of the farm.  We will explore techniques and recipes pertinent to this holiday\, and sit down to eat the product of our work at the conclusion of the class.  We eagerly hope you can join us!
URL:https://elkstonefarm.com/event/cooking-class-st-patricks-day/
LOCATION:Elkstone Farm\, 40345 Virtus Way\, Steamboat Springs\, CO\, 80487\, United States
CATEGORIES:Classes,Cooking
ATTACH;FMTTYPE=image/jpeg:https://elkstonefarm.com/wp-content/uploads/2025/06/NomadicTable-78-scaled.jpg
END:VEVENT
END:VCALENDAR