BEGIN:VCALENDAR
VERSION:2.0
PRODID:-//Elkstone Farm - ECPv6.15.20//NONSGML v1.0//EN
CALSCALE:GREGORIAN
METHOD:PUBLISH
X-ORIGINAL-URL:https://elkstonefarm.com
X-WR-CALDESC:Events for Elkstone Farm
REFRESH-INTERVAL;VALUE=DURATION:PT1H
X-Robots-Tag:noindex
X-PUBLISHED-TTL:PT1H
BEGIN:VTIMEZONE
TZID:America/Denver
BEGIN:DAYLIGHT
TZOFFSETFROM:-0700
TZOFFSETTO:-0600
TZNAME:MDT
DTSTART:20240310T090000
END:DAYLIGHT
BEGIN:STANDARD
TZOFFSETFROM:-0600
TZOFFSETTO:-0700
TZNAME:MST
DTSTART:20241103T080000
END:STANDARD
BEGIN:DAYLIGHT
TZOFFSETFROM:-0700
TZOFFSETTO:-0600
TZNAME:MDT
DTSTART:20250309T090000
END:DAYLIGHT
BEGIN:STANDARD
TZOFFSETFROM:-0600
TZOFFSETTO:-0700
TZNAME:MST
DTSTART:20251102T080000
END:STANDARD
BEGIN:DAYLIGHT
TZOFFSETFROM:-0700
TZOFFSETTO:-0600
TZNAME:MDT
DTSTART:20260308T090000
END:DAYLIGHT
BEGIN:STANDARD
TZOFFSETFROM:-0600
TZOFFSETTO:-0700
TZNAME:MST
DTSTART:20261101T080000
END:STANDARD
END:VTIMEZONE
BEGIN:VEVENT
DTSTART;TZID=America/Denver:20251210T100000
DTEND;TZID=America/Denver:20251210T120000
DTSTAMP:20260425T073402
CREATED:20251013T182150Z
LAST-MODIFIED:20251110T155019Z
UID:8274-1765360800-1765368000@elkstonefarm.com
SUMMARY:Cooking Class:  Handmade Pasta
DESCRIPTION:Join us on the farm as we explore techniques from around the world for making handmade noodles.  We will focus on the pasta of Italy\, but will also touch on the noodles of Asia.  From rolled and cut to hand-formed and extruded pasta techniques\, we will cover a broad range of styles of pasta-making and doughs. You will have the opportunity to use a variety of tools and techniques to create pasta\, and you will get pasta to bring home as well as to use in a farm-to-table lunch following the class. \nOur pastas will be made with Hayden Fresh Farm eggs and flour from Moxie Bread Company in Boulder\, yielding a true farm-driven cooking and dining experience.  We will also make sauces from farm ingredients\, and enjoy the products of our work at lunch.  Please come join us for this exciting and enriching cooking endeavor.  We look forward to seeing you! \n 
URL:https://elkstonefarm.com/event/cooking-class-handmade-pasta/
LOCATION:Elkstone Farm\, 40345 Virtus Way\, Steamboat Springs\, CO\, 80487\, United States
CATEGORIES:Classes,Cooking,Dining
ATTACH;FMTTYPE=image/jpeg:https://elkstonefarm.com/wp-content/uploads/2025/10/pasta.jpg
END:VEVENT
END:VCALENDAR