BEGIN:VCALENDAR
VERSION:2.0
PRODID:-//Elkstone Farm - ECPv6.15.20//NONSGML v1.0//EN
CALSCALE:GREGORIAN
METHOD:PUBLISH
X-WR-CALNAME:Elkstone Farm
X-ORIGINAL-URL:https://elkstonefarm.com
X-WR-CALDESC:Events for Elkstone Farm
REFRESH-INTERVAL;VALUE=DURATION:PT1H
X-Robots-Tag:noindex
X-PUBLISHED-TTL:PT1H
BEGIN:VTIMEZONE
TZID:America/Denver
BEGIN:DAYLIGHT
TZOFFSETFROM:-0700
TZOFFSETTO:-0600
TZNAME:MDT
DTSTART:20250309T090000
END:DAYLIGHT
BEGIN:STANDARD
TZOFFSETFROM:-0600
TZOFFSETTO:-0700
TZNAME:MST
DTSTART:20251102T080000
END:STANDARD
BEGIN:DAYLIGHT
TZOFFSETFROM:-0700
TZOFFSETTO:-0600
TZNAME:MDT
DTSTART:20260308T090000
END:DAYLIGHT
BEGIN:STANDARD
TZOFFSETFROM:-0600
TZOFFSETTO:-0700
TZNAME:MST
DTSTART:20261101T080000
END:STANDARD
BEGIN:DAYLIGHT
TZOFFSETFROM:-0700
TZOFFSETTO:-0600
TZNAME:MDT
DTSTART:20270314T090000
END:DAYLIGHT
BEGIN:STANDARD
TZOFFSETFROM:-0600
TZOFFSETTO:-0700
TZNAME:MST
DTSTART:20271107T080000
END:STANDARD
END:VTIMEZONE
BEGIN:VEVENT
DTSTART;TZID=America/Denver:20260609T100000
DTEND;TZID=America/Denver:20260609T130000
DTSTAMP:20260421T084634
CREATED:20260217T191505Z
LAST-MODIFIED:20260410T190746Z
UID:8964-1780999200-1781010000@elkstonefarm.com
SUMMARY:Arnica wildcrafting and salve making with Marco Lam\, June 9th\, 2026
DESCRIPTION:Join us for a day of wildcrafting  as we ethically harvest vibrant mountain arnica and transform it into a potent\, small-batch healing salve. Guided by Marco Lam—herbalist\, acupuncturist\, and regenerative land steward—you’ll learn how to identify arnica in its natural habitat\, understand its traditional and modern uses\, and harvest with deep respect for ecological balance. This hands-on class weaves together plant wisdom\, practical skill\, and embodied connection to place. \nAfter gathering\, we’ll return to the farm to prepare a rich\, golden arnica salve you’ll take home—crafted by your own hands. Marco will share insights from Western herbalism and Chinese medicine on topical applications for bruises\, strains\, and muscle soreness\, along with guidance on formulation\, infusion methods\, and safe use. Whether you’re new to herbal medicine or deepening your practice\, this class offers grounded knowledge\, community connection\, and a renewed relationship with the healing plants growing at your feet. \nWe'll gather for a farm-to-table lunch on the back porch in the aspens after class to enjoy each others company and to answer any question.
URL:https://elkstonefarm.com/event/arnica-wildcrafting-and-salve-making-with-marco-lam-june-9th-2026/
LOCATION:Elkstone Farm\, 40345 Virtus Way\, Steamboat Springs\, CO\, 80487\, United States
CATEGORIES:Classes,Community Apothecary Program
ATTACH;FMTTYPE=image/jpeg:https://elkstonefarm.com/wp-content/uploads/2021/04/IMG_1086-600px-39q.jpg
ORGANIZER;CN="Marco Lam":MAILTO:marco@elkstonefarm.com
END:VEVENT
END:VCALENDAR