BEGIN:VCALENDAR
VERSION:2.0
PRODID:-//Elkstone Farm - ECPv6.15.20//NONSGML v1.0//EN
CALSCALE:GREGORIAN
METHOD:PUBLISH
X-ORIGINAL-URL:https://elkstonefarm.com
X-WR-CALDESC:Events for Elkstone Farm
REFRESH-INTERVAL;VALUE=DURATION:PT1H
X-Robots-Tag:noindex
X-PUBLISHED-TTL:PT1H
BEGIN:VTIMEZONE
TZID:America/Denver
BEGIN:DAYLIGHT
TZOFFSETFROM:-0700
TZOFFSETTO:-0600
TZNAME:MDT
DTSTART:20250309T090000
END:DAYLIGHT
BEGIN:STANDARD
TZOFFSETFROM:-0600
TZOFFSETTO:-0700
TZNAME:MST
DTSTART:20251102T080000
END:STANDARD
BEGIN:DAYLIGHT
TZOFFSETFROM:-0700
TZOFFSETTO:-0600
TZNAME:MDT
DTSTART:20260308T090000
END:DAYLIGHT
BEGIN:STANDARD
TZOFFSETFROM:-0600
TZOFFSETTO:-0700
TZNAME:MST
DTSTART:20261101T080000
END:STANDARD
BEGIN:DAYLIGHT
TZOFFSETFROM:-0700
TZOFFSETTO:-0600
TZNAME:MDT
DTSTART:20270314T090000
END:DAYLIGHT
BEGIN:STANDARD
TZOFFSETFROM:-0600
TZOFFSETTO:-0700
TZNAME:MST
DTSTART:20271107T080000
END:STANDARD
END:VTIMEZONE
BEGIN:VEVENT
DTSTART;TZID=America/Denver:20260605T090000
DTEND;TZID=America/Denver:20260605T130000
DTSTAMP:20260423T044323
CREATED:20260204T202921Z
LAST-MODIFIED:20260204T203435Z
UID:8920-1780650000-1780664400@elkstonefarm.com
SUMMARY:Herbal Bitters with Courtney Hughes: June 5th
DESCRIPTION:Join us for a hands-on class exploring the magic and medicine of digestive bitters. Together\, we’ll taste and experience a variety of bitter herbs and their complementary plant allies while learning how bitters support digestion and overall vitality. \nIn this class\, you’ll learn: \n\n\nThe Science of Bitters\nHow bitter flavors stimulate digestive juices\, support liver function\, and help the body better absorb nutrients. \n\n\nHerbal Allies\nMeet and sample a range of bitter herbs and their warming plant companions\, and learn about their traditional and modern medicinal uses. \n\n\nCreate Your Own Bitters\nLearn how to craft your own bitters\, including different extraction methods and formulation tips. \n\n\nHistory\nExplore the rich history of bitters and their role in traditional herbal medicine across cultures. \n\n\nSafety\nUnderstand when bitters are appropriate to use and review contraindications. \n\n\nWhether you’re new to herbal medicine or looking to deepen your relationship with plants\, this class offers practical skills\, embodied learning\, and a deeper appreciation for the power of bitterness. \n\n \nCourtney Hughes is a Certified Clinical Herbalist\, Certified Nutritionist\, and mixed media artist guided by a deep belief in the body’s innate capacity to heal. Her work is rooted in removing obstacles and cultivating environments where both body and soul can thrive. Through herbal medicine and art\, Courtney explores the multifaceted nature of physicality\, with much of her artwork centered on the human body and the transformative power of embodiment.
URL:https://elkstonefarm.com/event/herbal-bitters-with-courtney-hughes-june-5th/
LOCATION:Elkstone Farm\, 40345 Virtus Way\, Steamboat Springs\, CO\, 80487\, United States
CATEGORIES:Classes,Community Apothecary Program
ATTACH;FMTTYPE=image/jpeg:https://elkstonefarm.com/wp-content/uploads/2026/02/Image-1-9-26-at-4.37-PM.jpeg
ORGANIZER;CN="Marco Lam":MAILTO:marco@elkstonefarm.com
END:VEVENT
END:VCALENDAR