BEGIN:VCALENDAR
VERSION:2.0
PRODID:-//Elkstone Farm - ECPv6.15.20//NONSGML v1.0//EN
CALSCALE:GREGORIAN
METHOD:PUBLISH
X-ORIGINAL-URL:https://elkstonefarm.com
X-WR-CALDESC:Events for Elkstone Farm
REFRESH-INTERVAL;VALUE=DURATION:PT1H
X-Robots-Tag:noindex
X-PUBLISHED-TTL:PT1H
BEGIN:VTIMEZONE
TZID:America/Denver
BEGIN:DAYLIGHT
TZOFFSETFROM:-0700
TZOFFSETTO:-0600
TZNAME:MDT
DTSTART:20250309T090000
END:DAYLIGHT
BEGIN:STANDARD
TZOFFSETFROM:-0600
TZOFFSETTO:-0700
TZNAME:MST
DTSTART:20251102T080000
END:STANDARD
BEGIN:DAYLIGHT
TZOFFSETFROM:-0700
TZOFFSETTO:-0600
TZNAME:MDT
DTSTART:20260308T090000
END:DAYLIGHT
BEGIN:STANDARD
TZOFFSETFROM:-0600
TZOFFSETTO:-0700
TZNAME:MST
DTSTART:20261101T080000
END:STANDARD
BEGIN:DAYLIGHT
TZOFFSETFROM:-0700
TZOFFSETTO:-0600
TZNAME:MDT
DTSTART:20270314T090000
END:DAYLIGHT
BEGIN:STANDARD
TZOFFSETFROM:-0600
TZOFFSETTO:-0700
TZNAME:MST
DTSTART:20271107T080000
END:STANDARD
END:VTIMEZONE
BEGIN:VEVENT
DTSTART;TZID=America/Denver:20260514T180000
DTEND;TZID=America/Denver:20260514T200000
DTSTAMP:20260423T044354
CREATED:20260316T195602Z
LAST-MODIFIED:20260318T011704Z
UID:9159-1778781600-1778788800@elkstonefarm.com
SUMMARY:Book Club Dinner: Yampa Yearnings : May 14th\, 2026
DESCRIPTION:For those who live along the bends of the Yampa River\, under the long skies of the valley\, and among the seasons that shape this place—you’re invited to gather for a shared reading of Yampa Yearnings by award-winning author Eugene Buchanan.   We may all share some concern for our low snowpack melting into a low water year for our beloved river.   This is an opportunity to increase awareness for our backyard river. \nThis book club will bring together neighbors from across the Yampa Valley to read and discuss the novel Yampa Yearnings\, a story rooted in the landscapes\, longings\, and layered histories of our region. Together we’ll explore the characters\, the valley itself\, and the deeper questions the story raises about place\, belonging\, and the lives we build here. \nWhether you’ve lived here for generations or just arrived under the spell of these mountains\, you’re warmly welcome. \nCome for the book.  Stay for the conversation! \nBring a copy of Yampa Yearnings\, a curious mind\, and perhaps a friend who loves the valley as much as you do. \nChef Russell will cook a family-style farm-to-table dinner to accompany our dinner discussion. Our farm manager\, Marco Lam\, is partnering once again with Danielle Skov\, of Off the Beaten Path bookstore\, to host a lively discussion.  Please order your book in advance and read it.   If you don't finish it\, you can can still join us for dinner without being embarrassed! \nEXCITING UPDATEL \nEugene Buchanan\, the author\,  is going to join us for dinner and discussion! \nA former reporter for the Denver Business Journal and 14-year publisher and editor-in-chief of Paddler magazine\, Eugene Buchanan has written about the outdoors for more than 25 years. He’s covered sports at the highest levels of competition\, including the X Games for ESPN.com and the Beijing Olympics while working for NBC. \nAs a member of New York’s prestigious Explorer’s Club\, Eugene’s articles have appeared in such publications as the New York Times\, National Geographic Adventure\, Men's Journal\, Sports Afield\, Outside\, Forbes Life\, Skiing\, Bike and more. He’s a talented PR specialist\, copywriter\, and speaker\, and is the author of five books: Brothers on the Bashkaus (2007); Outdoor Parents\, Outdoor Kids (2010); Ultimate Canoe & Kayak Adventures (2013); Comrades on the Colca (2016)\, and Tales from a Mountain Town (2017). \nEugene is the editor for Swift Communications’ magazine division in Steamboat Springs\, Colorado. He lives with his wife\, Denise\, and daughters\, Brooke and Casey\, a block away from his beloved Yampa River.
URL:https://elkstonefarm.com/event/yampa-yearnings-may-14th-2026/
LOCATION:Elkstone Farm\, 40345 Virtus Way\, Steamboat Springs\, CO\, 80487\, United States
CATEGORIES:Education
ATTACH;FMTTYPE=image/png:https://elkstonefarm.com/wp-content/uploads/2026/03/Screenshot-2026-03-16-at-1.47.22-PM.png
ORGANIZER;CN="Marco Lam":MAILTO:marco@elkstonefarm.com
END:VEVENT
END:VCALENDAR