BEGIN:VCALENDAR
VERSION:2.0
PRODID:-//Elkstone Farm - ECPv6.15.20//NONSGML v1.0//EN
CALSCALE:GREGORIAN
METHOD:PUBLISH
X-ORIGINAL-URL:https://elkstonefarm.com
X-WR-CALDESC:Events for Elkstone Farm
REFRESH-INTERVAL;VALUE=DURATION:PT1H
X-Robots-Tag:noindex
X-PUBLISHED-TTL:PT1H
BEGIN:VTIMEZONE
TZID:America/Denver
BEGIN:DAYLIGHT
TZOFFSETFROM:-0700
TZOFFSETTO:-0600
TZNAME:MDT
DTSTART:20250309T090000
END:DAYLIGHT
BEGIN:STANDARD
TZOFFSETFROM:-0600
TZOFFSETTO:-0700
TZNAME:MST
DTSTART:20251102T080000
END:STANDARD
BEGIN:DAYLIGHT
TZOFFSETFROM:-0700
TZOFFSETTO:-0600
TZNAME:MDT
DTSTART:20260308T090000
END:DAYLIGHT
BEGIN:STANDARD
TZOFFSETFROM:-0600
TZOFFSETTO:-0700
TZNAME:MST
DTSTART:20261101T080000
END:STANDARD
BEGIN:DAYLIGHT
TZOFFSETFROM:-0700
TZOFFSETTO:-0600
TZNAME:MDT
DTSTART:20270314T090000
END:DAYLIGHT
BEGIN:STANDARD
TZOFFSETFROM:-0600
TZOFFSETTO:-0700
TZNAME:MST
DTSTART:20271107T080000
END:STANDARD
END:VTIMEZONE
BEGIN:VEVENT
DTSTART;TZID=America/Denver:20260416T180000
DTEND;TZID=America/Denver:20260416T200000
DTSTAMP:20260421T053231
CREATED:20260316T193722Z
LAST-MODIFIED:20260415T170939Z
UID:9155-1776362400-1776369600@elkstonefarm.com
SUMMARY:Book Club Dinner: Wild Dark Shore : April 16th\, 2026
DESCRIPTION:We are going to depart from our food-oriented books and delve into some rich storytelling . We invite you to gather for an evening devoted to Wild Dark Shore — a story that moves like weather along a rugged coast\, where memory\, landscape\, and the hidden tides of the heart meet. \nTogether we will sit with the book’s questions and currents: the pull of wild places\, the quiet forces that shape our lives\, and the stories that surface when we listen closely. \nThere will be conversation\, excellent food\, and the simple pleasure of thinking together. Bring your copy of Wild Dark Shore\, a passage that lingered with you\, and your own reflections. \nLet us gather for a night at the edge of the known world\, where good books open deeper waters.   Chef Russell will cook a family-style farm-to-table dinner to accompany our dinner discussion. Our farm manager\, Marco Lam\, is partnering once again with Danielle Skov\, of Off the Beaten Path bookstore\, to host a lively discussion.  Please order your book in advance and read it.   If you don't finish it\, you can can still join us for dinner without being embarrassed!
URL:https://elkstonefarm.com/event/book-club-dinner-wild-dark-shore-april-16th-2026/
LOCATION:Elkstone Farm\, 40345 Virtus Way\, Steamboat Springs\, CO\, 80487\, United States
CATEGORIES:Education
ATTACH;FMTTYPE=image/png:https://elkstonefarm.com/wp-content/uploads/2026/03/Screenshot-2026-03-16-at-1.28.09-PM.png
ORGANIZER;CN="Marco Lam":MAILTO:marco@elkstonefarm.com
END:VEVENT
END:VCALENDAR